BEGIN:VCALENDAR
VERSION:2.0
PRODID:-//Consejo Andaluz de Graduados sociales - ECPv6.15.20//NONSGML v1.0//EN
CALSCALE:GREGORIAN
METHOD:PUBLISH
X-WR-CALNAME:Consejo Andaluz de Graduados sociales
X-ORIGINAL-URL:https://consejoandaluzgraduadossociales.com
X-WR-CALDESC:Eventos para Consejo Andaluz de Graduados sociales
REFRESH-INTERVAL;VALUE=DURATION:PT1H
X-Robots-Tag:noindex
X-PUBLISHED-TTL:PT1H
BEGIN:VTIMEZONE
TZID:UTC
BEGIN:STANDARD
TZOFFSETFROM:+0000
TZOFFSETTO:+0000
TZNAME:UTC
DTSTART:20230101T000000
END:STANDARD
END:VTIMEZONE
BEGIN:VEVENT
DTSTART;VALUE=DATE:20240311
DTEND;VALUE=DATE:20240316
DTSTAMP:20260423T070141
CREATED:20240306T092859Z
LAST-MODIFIED:20240306T092859Z
UID:6644-1710115200-1710547199@consejoandaluzgraduadossociales.com
SUMMARY:Málaga: VIII Congreso Laboralista\, un evento crucial para el futuro del trabajo
DESCRIPTION:Del 11 al 15 de marzo de 2024\, la Facultad de Estudios Sociales y del Trabajo de la Universidad de Málaga será la sede del VIII Congreso Laboralista Malagueño. Este evento se perfila como un espacio de encuentro fundamental para graduados sociales\, abogados laboralistas\, estudiantes y demás profesionales del ámbito laboral. \nNovedades jurídicas\, actualización profesional y acercamiento a la realidad del ejercicio profesional son los pilares del Congreso. El programa\, organizado por el Excmo. Colegio de Graduados Sociales de Málaga y Melilla\, ofrecerá un conjunto de ponencias y mesas redondas de alto nivel a cargo de destacadas personalidades del mundo jurídico y laboral. \nBajo el lema «Graduado social: vanguardia y seguridad en las relaciones laborales»\, el Congreso busca poner de relieve el papel crucial que desempeñan estos profesionales en la sociedad actual. En un contexto de constante cambio y transformación del mercado laboral\, su labor se torna indispensable para garantizar la seguridad jurídica de las empresas y los trabajadores. \nEl VIII Congreso Laboralista Malagueño se convierte en una cita ineludible para todos aquellos que buscan estar a la vanguardia del derecho laboral y los recursos humanos. Un espacio para el intercambio de conocimiento\, el debate y la reflexión sobre los desafíos y oportunidades que presenta el futuro del trabajo. \nNo te pierdas la oportunidad de participar en este evento único. Para más información y registro\, consulta la página web oficial del Congreso: www.congresolaboralista.com \nAquí te dejo algunos puntos clave del Congreso: \n\nFecha: 11 al 15 de marzo de 2024\nLugar: Facultad de Estudios Sociales y del Trabajo de la Universidad de Málaga\nOrganiza: Excmo. Colegio de Graduados Sociales de Málaga y Melilla\nLema: Graduado social: vanguardia y seguridad en las relaciones laborales\nPrograma: Ponencias\, mesas redondas y talleres\nPonentes: Destacadas personalidades del mundo jurídico y laboral\nDestinatarios: Graduados sociales\, abogados laboralistas\, estudiantes y demás profesionales del ámbito laboral\nMás información: www.congresolaboralista.com\n\n¿Por qué asistir al Congreso? \n\nActualización profesional: Estarás al día de las últimas novedades jurídicas y tendencias en el ámbito laboral.\nNetworking: Podrás establecer contactos con otros profesionales del sector.\nAprendizaje: Disfrutarás de un programa de alto nivel con ponentes expertos.\nReflexión: Tendrás la oportunidad de reflexionar sobre los desafíos y oportunidades del futuro del trabajo.\n\n¡No te pierdas esta cita! ¡Inscríbete!
URL:https://consejoandaluzgraduadossociales.com/evento/malaga-viii-congreso-laboralista-un-evento-crucial-para-el-futuro-del-trabajo/
LOCATION:Facultad de Estudios Sociales y del Trabajo de la Universidad de Málaga\, Av. Francisco Trujillo Villanueva\,\, Málaga\, 29010\, España
CATEGORIES:Congresos
ATTACH;FMTTYPE=image/jpeg:https://consejoandaluzgraduadossociales.com/wp-content/uploads/2024/03/unnamed.jpg
ORGANIZER;CN="Colegio Oficial de Graduados Sociales de M%C3%A1laga y Melilla":MAILTO:secretariacgs@graduadosociales.com
END:VEVENT
END:VCALENDAR