BEGIN:VCALENDAR
VERSION:2.0
PRODID:-//Consejo Andaluz de Graduados sociales - ECPv6.15.20//NONSGML v1.0//EN
CALSCALE:GREGORIAN
METHOD:PUBLISH
X-WR-CALNAME:Consejo Andaluz de Graduados sociales
X-ORIGINAL-URL:https://consejoandaluzgraduadossociales.com
X-WR-CALDESC:Eventos para Consejo Andaluz de Graduados sociales
REFRESH-INTERVAL;VALUE=DURATION:PT1H
X-Robots-Tag:noindex
X-PUBLISHED-TTL:PT1H
BEGIN:VTIMEZONE
TZID:UTC
BEGIN:STANDARD
TZOFFSETFROM:+0000
TZOFFSETTO:+0000
TZNAME:UTC
DTSTART:20240101T000000
END:STANDARD
END:VTIMEZONE
BEGIN:VEVENT
DTSTART;VALUE=DATE:20251023
DTEND;VALUE=DATE:20251026
DTSTAMP:20260420T082258
CREATED:20250724T160107Z
LAST-MODIFIED:20250724T160107Z
UID:8037-1761177600-1761436799@consejoandaluzgraduadossociales.com
SUMMARY:SEGUNDA JORNADA FORMATIVA DE LABORIUM CONGRESO ASNALA
DESCRIPTION:La Asociación Nacional de Laboralistas (ASNALA) ha organizado La segunda jornada formativa de Laborium Congreso ASNALA 2025\, prevista para los días 23 a 25 de octubre del cte. año. En este Congreso-Jornada se pone el foco en los grandes desafíos  actuales del Derecho del Trabajo y tendrá lugar en Sevilla y más concretamente en  el Casino de la Exposición de Sevilla\, sito en  Glorieta San Diego\, S/N\, Casco Antiguo. \nEn dicho Congreso se hablará  de inteligencia artificial y de cómo su uso en el ámbito laboral plantea nuevos retos para el iuslaboralismo\, desde algoritmos en la selección de personal hasta sistemas automatizados de control. Se abordará la cuestión de los despidos colectivos y los umbrales\, un tema que sigue generando incertidumbre. \nSe cerrará dicha jornada con una mesa redonda sobre el trabajo en plataformas digitales para analizar qué supondrá la nueva directiva europea en nuestro marco legal y cómo afectará a miles de personas trabajadoras. \nEl Congreso reunirá a especialistas de referencia que compartirán una visión crítica\, rigurosa y práctica sobre estos temas\, ofreciendo un espacio para anticiparse a los cambios\, intercambiar ideas y seguir creciendo como profesionales \nFruto del acuerdo de colaboración entre este Consejo Andaluz y Asnala\, nos ofrecen un precio especial al colectivo de Graduados Sociales de Andalucía. \nSe adjunta enlace el programa de este interesante congreso. \n_XXV-Congreso-Nal-2025-22A
URL:https://consejoandaluzgraduadossociales.com/evento/segunda-jornada-formativa-de-laborium-congreso-asnala/
LOCATION:Casino de la Exposición de Sevilla\, Glorieta San Diego\, S/N\, Sevilla\, Sevilla\, Spain
CATEGORIES:Congresos
ATTACH;FMTTYPE=image/jpeg:https://consejoandaluzgraduadossociales.com/wp-content/uploads/2025/07/Captura-de-pantalla-2025-07-24-175357.jpg
END:VEVENT
END:VCALENDAR