BEGIN:VCALENDAR
VERSION:2.0
PRODID:-//Consejo Andaluz de Graduados sociales - ECPv6.15.20//NONSGML v1.0//EN
CALSCALE:GREGORIAN
METHOD:PUBLISH
X-ORIGINAL-URL:https://consejoandaluzgraduadossociales.com
X-WR-CALDESC:Eventos para Consejo Andaluz de Graduados sociales
REFRESH-INTERVAL;VALUE=DURATION:PT1H
X-Robots-Tag:noindex
X-PUBLISHED-TTL:PT1H
BEGIN:VTIMEZONE
TZID:UTC
BEGIN:STANDARD
TZOFFSETFROM:+0000
TZOFFSETTO:+0000
TZNAME:UTC
DTSTART:20250101T000000
END:STANDARD
END:VTIMEZONE
BEGIN:VEVENT
DTSTART;VALUE=DATE:20260309
DTEND;VALUE=DATE:20260314
DTSTAMP:20260420T002226
CREATED:20260211T153419Z
LAST-MODIFIED:20260211T153419Z
UID:8409-1773014400-1773446399@consejoandaluzgraduadossociales.com
SUMMARY:X CONGRESO LABORALISTA MALAGUEÑO
DESCRIPTION:
URL:https://consejoandaluzgraduadossociales.com/evento/x-congreso-laboralista-malagueno/
LOCATION:Facultad de Estudios Sociales y del Trabajo de la Universidad de Málaga\, Av. Francisco Trujillo Villanueva\,\, Málaga\, 29010\, España
CATEGORIES:Congresos
ATTACH;FMTTYPE=image/jpeg:https://consejoandaluzgraduadossociales.com/wp-content/uploads/2026/02/Captura-de-pantalla-2026-02-11-163055.jpg
ORGANIZER;CN="Colegio Oficial de Graduados Sociales de M%C3%A1laga y Melilla":MAILTO:secretariacgs@graduadosociales.com
END:VEVENT
END:VCALENDAR