BEGIN:VCALENDAR
VERSION:2.0
PRODID:-//Consejo Andaluz de Graduados sociales - ECPv6.15.20//NONSGML v1.0//EN
CALSCALE:GREGORIAN
METHOD:PUBLISH
X-WR-CALNAME:Consejo Andaluz de Graduados sociales
X-ORIGINAL-URL:https://consejoandaluzgraduadossociales.com
X-WR-CALDESC:Eventos para Consejo Andaluz de Graduados sociales
REFRESH-INTERVAL;VALUE=DURATION:PT1H
X-Robots-Tag:noindex
X-PUBLISHED-TTL:PT1H
BEGIN:VTIMEZONE
TZID:UTC
BEGIN:STANDARD
TZOFFSETFROM:+0000
TZOFFSETTO:+0000
TZNAME:UTC
DTSTART:20220101T000000
END:STANDARD
END:VTIMEZONE
BEGIN:VEVENT
DTSTART;TZID=UTC:20231212T170000
DTEND;TZID=UTC:20231212T180000
DTSTAMP:20260423T101147
CREATED:20231211T154211Z
LAST-MODIFIED:20231211T154626Z
UID:6490-1702400400-1702404000@consejoandaluzgraduadossociales.com
SUMMARY:ONLINE: JORNADAS TÉCNICAS DE PRESENTACIÓN DEL CÓDIGO ÉTICO DEL SERCLA PARA LA ACTUACIÓN PROFESIONAL EN MEDIACIONES”
DESCRIPTION:Justificación y objetivos de las jornadas:\nAprobado el Código ético de actuación como parte interesada o como asesoramiento profesional en las mediaciones\ndel SERCLA por su Comisión de Seguimiento y ratificada por el Pleno del CARL el pasado 22 de marzo de\n2023\, se iniciaron las adhesiones a dicho código por colegios y asociaciones de profesionales de las relaciones\nlaborales. \nCÓDIGO ÉTICO DE ACTUACIÓN COMO PARTE INTERESADA O COMO ASESORAMIENTO PROFESIONAL EN LAS MEDIACIONES DEL SERCLA. \nActa Adhesión \nEn dicho proceso se han formalizado las adhesiones al código ético del Consejo Andaluz de Colegios\nOficiales de Graduados Sociales y de la asociación de laboralistas ASNALA\, entre otras. \nCarta Consejo Andaluz de Colegios Oficiales de Graduados Sociales \nParece oportuno ahora la celebración de unas jornadas técnicas online dirigidas a los colegiados y asociados de\nambas entidades\, con el objetivo de presentarles el mencionado código ético y los compromisos que contienen\ny que pivotan en torno al principio de buena fe negocial. La finalidad de la implementación del código es valorar\,\ndistinguir y divulgar aquellas actuaciones de profesionales colegiados y asociados\, adheridos al código\, que sean\nacordes con los compromisos esenciales previstos en el mismo\, con el fin de favorecer la cultura de la mediación\ny la generalización de dichas actuaciones entre todas las personas que desarrollan el asesoramiento profesional\ndurante las mediaciones del SERCLA.\nLa implementación efectiva del código se producirá a partir del 1 de enero de 2024 mediante la valoración de\nlas actuaciones conformes de profesionales durante las mediaciones del SERCLA y la remisión a las personas y\ndespachos de la etiqueta de profesional o despacho adherido.\nEl acto contará con la intervención de los presidentes del Consejo Andaluz de Relaciones Laborales\, del Consejo\nAndaluz de Colegios Oficiales de Graduados Sociales y la presidenta de la asociación ASNALA\, siendo desarrollado\nposteriormente su contenido por el secretario general del CARL.\nSu duración será de 17 a 18 h\, no precisándose inscripción previa. \nJornadas online desde la plataforma Zoom:\nhttps://zoom.us/j/94773954733?pwd=d1orYXJ5UGJKV1UrUHU1RVB2N0h1Zz09\nID de reunión: 947 7395 4733\nCódigo de acceso: 401013  \n 
URL:https://consejoandaluzgraduadossociales.com/evento/online-jornadas-tecnicas-de-presentacion-del-codigo-etico-del-sercla-para-la-actuacion-profesional-en-mediaciones/
LOCATION:Córdoba
CATEGORIES:Cursos - Webinar
ATTACH;FMTTYPE=image/jpeg:https://consejoandaluzgraduadossociales.com/wp-content/uploads/2023/12/IMG-20231129-WA0001.jpg
END:VEVENT
BEGIN:VEVENT
DTSTART;TZID=UTC:20231221T103000
DTEND;TZID=UTC:20231221T123000
DTSTAMP:20260423T101147
CREATED:20231215T102400Z
LAST-MODIFIED:20231218T085300Z
UID:6510-1703154600-1703161800@consejoandaluzgraduadossociales.com
SUMMARY:WEBINAR: “PLAN DE PENSIONES SIMPLIFICADO DEL SECTOR DE LA CONSTRUCCIÓN: UNA VISIÓN PRÁCTICA”
DESCRIPTION:Estimado/a amigo/a y compañero/a: \nComo bien  sabes\, en breve\,  los empresarios del sector de la construcción tendrán que comenzar a ingresar sus contribuciones y las aportaciones de los trabajadores al Plan de Pensiones del Sector de la Construcción contemplado en el convenio sectorial\, siendo éste  un tema que está generando muchas inquietudes entre todos los compañeros. \nPor este motivo\, desde este Consejo Andaluz y en colaboración con la Confederación Nacional de la Construcción (CNC) vamos a celebrar esta webinar para difundir cómo funcionará la aplicación a través de la que se realizará dicha gestión y aclarar todas aquellas inquietudes que nos están surgiendo sobre dicho tema. \nPor ello\, te  remito en enlace al margen derecho el programa provisional y enlace de inscripción\, a la webinar sobre la “ENTRADA EN VIGOR DEL PLAN DE PENSIONES DEL SECTOR DE LA CONSTRUCCIÓN”\, organizada\, como te he indicado\, por este Consejo Andaluz en colaboración con la Confederación Nacional de la Construcción\, que tendrá lugar el próximo 21 de diciembre\, en horario de 10:30 h a 12.30 h\, dirigida a los Graduados Sociales ejercientes. \nContaremos en esta ocasión con Don Ignacio Ayala Soto\, Director de Proyectos de la Confederación Nacional de la Construcción y ponente pendiente de confirmar\, por parte de  Vida-Caixa\, por lo que en cuanto tengamos los datos de dicho ponente\, te lo haré saber. \nIndicarte que si quieres formular alguna pregunta sobre el tema a tratar en esta webinar\, deberás remitírnosla antes del 20 de diciembre al correo info@consejoandaluzgraduadossociales.com  y con posterioridad los ponentes  responderán a dichas cuestiones. \nEspero contar dicho día contigo\, recordándote reserves en tu agenda  el día 21 de Diciembre para que puedas asistir  a dicha Webinar\, en la que trataremos este tema sumamente interesante y donde podremos resolver muchas dudas al respecto. \nEn la espera sea de tu interés cuánto te traslado\, recibe un fuerte abrazo de tu amigo y compañero. \nFdo. José Blas Fernández Sánchez.\nPresidente\nPROGRAMA E INSCRIPCIÓN \n 
URL:https://consejoandaluzgraduadossociales.com/evento/webinar-plan-de-pensiones-simplificado-del-sector-de-la-construccion-una-vision-practica/
LOCATION:Córdoba
CATEGORIES:Cursos - Webinar
ATTACH;FMTTYPE=image/png:https://consejoandaluzgraduadossociales.com/wp-content/uploads/2023/12/Captura-de-pantalla-2023-12-15-112215.png
END:VEVENT
END:VCALENDAR