BEGIN:VCALENDAR
VERSION:2.0
PRODID:-//Consejo Andaluz de Graduados sociales - ECPv6.15.20//NONSGML v1.0//EN
CALSCALE:GREGORIAN
METHOD:PUBLISH
X-WR-CALNAME:Consejo Andaluz de Graduados sociales
X-ORIGINAL-URL:https://consejoandaluzgraduadossociales.com
X-WR-CALDESC:Eventos para Consejo Andaluz de Graduados sociales
REFRESH-INTERVAL;VALUE=DURATION:PT1H
X-Robots-Tag:noindex
X-PUBLISHED-TTL:PT1H
BEGIN:VTIMEZONE
TZID:UTC
BEGIN:STANDARD
TZOFFSETFROM:+0000
TZOFFSETTO:+0000
TZNAME:UTC
DTSTART:20230101T000000
END:STANDARD
END:VTIMEZONE
BEGIN:VEVENT
DTSTART;VALUE=DATE:20241008
DTEND;VALUE=DATE:20241010
DTSTAMP:20260422T205008
CREATED:20240920T151641Z
LAST-MODIFIED:20241001T090608Z
UID:7117-1728345600-1728518399@consejoandaluzgraduadossociales.com
SUMMARY:CARL: CURSOS DE OTOÑO 2024 ESCUELA UNIVERSITARIA DE OSUNA
DESCRIPTION:El Consejo Andaluz de Relaciones Laborales (CARL) es un órgano colegiado de naturaleza tripartita\, constituido por las organizaciones empresariales y sindicales que ostentan la condición de más representativas en nuestra Comunidad Autónoma\, Confederación de Empresarios de Andalucía\, Unión General de Trabajadores de Andalucía y Comisiones Obreras de Andalucía\, así como por la Junta de Andalucía\, quedando integrado dentro de la estructura orgánica de la Consejería de Empleo\, Empresa y Trabajo Autónomo. Se crea por una de las primeras leyes del Parlamento de Andalucía (Ley 4/1983 de 27 de junio). En la línea de las directrices internacionales sobre Administración del Trabajo se crea para garantizar “la consulta\, la cooperación y la negociación entre\nlas autoridades públicas y las organizaciones más representativas de empleadores y de trabajadores” \, según lo previsto en el artículo 5 del Convenio 150 de la OIT. \nDirección: D. José Manuel Gómez Muñoz\, presidente del Consejo Andaluz de Relaciones Laborales.\nLugar: Salón de Grados. Edif. CREAR – Escuela Univ. de Osuna. \nPrograma Actualizado
URL:https://consejoandaluzgraduadossociales.com/evento/carl-cursos-de-otono-2024-escuela-universitaria-de-osuna/
LOCATION:Escuela Universitaria de Osuna\, Campo de Cipreses\, OSUNA\, Sevilla\, 41640\, España
CATEGORIES:Cursos - Webinar
ATTACH;FMTTYPE=image/jpeg:https://consejoandaluzgraduadossociales.com/wp-content/uploads/2024/09/Captura-de-pantalla-2024-09-20-170730.jpg
END:VEVENT
BEGIN:VEVENT
DTSTART;VALUE=DATE:20241017
DTEND;VALUE=DATE:20241019
DTSTAMP:20260422T205008
CREATED:20240917T085409Z
LAST-MODIFIED:20240917T085409Z
UID:7101-1729123200-1729295999@consejoandaluzgraduadossociales.com
SUMMARY:UNIVERSIDAD INTERNACIONAL DE ANDALUCÍA: ENCUENTRO DE OTOÑO "Nuevos horizontes para la negociación colectiva en Andalucía"
DESCRIPTION:UNIVERSIDAD INTERNACIONAL DE ANDALUCÍA\nUNIA\nENCUENTRO DE OTOÑO (17 y 18 de octubre)\nNuevos horizontes para la negociación colectiva en Andalucía\n\nEstimado/a amigo/a y compañero/a: \nPor medio de la presente\, te traslado información que me hace llegar la Cátedra de Negociación Colectiva y Relaciones Laborales de Andalucía de la Universidad Internacional de Andalucía\, en relación al “ENCUENTRO EN OTOÑO” que se celebrará los próximos días 17 y 18 de octubre\, donde abordarán con detenimiento temas de actualidad en materia de negociación colectiva. \nSe trata de un evento destacado donde se abordarán con detenimiento temas de actualidad en materia de la negociación colectiva para tratar los problemas o dudas que nos surgen en el día a día en nuestros despachos en dicha materia\, por lo que te adjunto al enlace que te señalo al margen derecho el programa\, en cuyo contenido encontrarás una gran variedad de ponencias de expertos reconocidos en el mundo del trabajo. \nLa asistencia a este seminario es gratuita y online\, teniendo la misma reconocimiento académico de 15 horas. \nPara cualquier consulta puedes dirigirte a este correo electrónico: catedra.negociacion.colectiva@unia.es \nPINCHA AQUÍ PARA INSCRIBIRTE: (PINCHA AQUÍ) \nEn la espera que sea de tu interés cuanto te remito\, recibe un fuerte abrazo de tu amigo y compañero.\nFdo.: José Blas Fernández Sánchez\nPresidente
URL:https://consejoandaluzgraduadossociales.com/evento/universidad-internacional-de-andalucia-encuentro-de-otono-nuevos-horizontes-para-la-negociacion-colectiva-en-andalucia/
LOCATION:Universidad Internacional de Andalucía\, Paraje de La Rábida s/n\,Palos de la Frontera\, Huelva\, Huelva\, España
CATEGORIES:Cursos - Webinar
ATTACH;FMTTYPE=image/jpeg:https://consejoandaluzgraduadossociales.com/wp-content/uploads/2024/09/Captura-de-pantalla-2024-09-17-105031.jpg
END:VEVENT
END:VCALENDAR