BEGIN:VCALENDAR
VERSION:2.0
PRODID:-//Consejo Andaluz de Graduados sociales - ECPv6.15.20//NONSGML v1.0//EN
CALSCALE:GREGORIAN
METHOD:PUBLISH
X-WR-CALNAME:Consejo Andaluz de Graduados sociales
X-ORIGINAL-URL:https://consejoandaluzgraduadossociales.com
X-WR-CALDESC:Eventos para Consejo Andaluz de Graduados sociales
REFRESH-INTERVAL;VALUE=DURATION:PT1H
X-Robots-Tag:noindex
X-PUBLISHED-TTL:PT1H
BEGIN:VTIMEZONE
TZID:UTC
BEGIN:STANDARD
TZOFFSETFROM:+0000
TZOFFSETTO:+0000
TZNAME:UTC
DTSTART:20240101T000000
END:STANDARD
END:VTIMEZONE
BEGIN:VEVENT
DTSTART;VALUE=DATE:20250919
DTEND;VALUE=DATE:20251115
DTSTAMP:20260420T063654
CREATED:20250916T083303Z
LAST-MODIFIED:20250916T083321Z
UID:8084-1758240000-1763164799@consejoandaluzgraduadossociales.com
SUMMARY:Málaga: CURSO DE ESPECIALIZACIÓN MEDIACIÓN CIVIL\, MERCANTIL Y LABORAL PARA GRADUADOS SOCIALES\, HOMOLOGADO POR EL MINISTERIO DE JUSTICIA
DESCRIPTION:Información Curso
URL:https://consejoandaluzgraduadossociales.com/evento/malaga-curso-de-especializacion-mediacion-civil-mercantil-y-laboral-para-graduados-sociales-homologado-por-el-ministerio-de-justicia/
LOCATION:Colegio Oficial de Graduados Sociales de Málaga y Melilla\, Compañía 17 Bajo\,\, Málaga\, Málaga\, 29008\, España
CATEGORIES:Cursos - Webinar
ATTACH;FMTTYPE=image/jpeg:https://consejoandaluzgraduadossociales.com/wp-content/uploads/2025/09/unnamed-2.jpg
ORGANIZER;CN="Colegio Oficial de Graduados Sociales de M%C3%A1laga y Melilla":MAILTO:secretariacgs@graduadosociales.com
END:VEVENT
BEGIN:VEVENT
DTSTART;TZID=UTC:20251002T170000
DTEND;TZID=UTC:20251002T183000
DTSTAMP:20260420T063654
CREATED:20250928T102047Z
LAST-MODIFIED:20250928T102047Z
UID:8136-1759424400-1759429800@consejoandaluzgraduadossociales.com
SUMMARY:WEBINAR “AYUDAS INICIO DE ACTIVIDAD PARA EL FOMENTO DEL TRABAJO AUTÓNOMO”
DESCRIPTION:WEBINAR \n“AYUDAS INICIO DE ACTIVIDAD PARA EL FOMENTO DEL TRABAJO AUTÓNOMO” \n(JUEVES\, 02 DE OCTUBRE A LAS 17:00 H) \nCádiz\, 26 de septiembre de 2025 \nEstimado/a compañero/a y amigo/a: \nPor medio del presente\, te remito en archivo el programa definitivo\, así como inscripción del Seminario Online sobre AYUDAS INICIO DE ACTIVIDAD PARA EL FOMENTO DEL TRABAJO AUTÓNOMO”\, organizado por el Excmo. Consejo Andaluz de Colegios Oficiales de Graduados Sociales\, en colaboración con Consejería de Empleo \, Empresa y Trabajo Autónomo  de la Junta de Andalucía\, que tendrá lugar el próximo 2 de octubre\, en horario de 17:00 h a 18:30 h\, dirigida a los Graduados/as Sociales ejercientes. Contaremos en esta ocasión\, como ponentes con\,  Doña Carmen María  Durán\, Directora  General de Trabajo Autónomo  y Economía Social\, Doña Patricia Salas\, Coordinadora General y con Doña María Ángeles Ropero\, Jefa de Servicios  de Gestión  de Trabajo Autónomo. \nIndicarte que\, si quieres formular alguna pregunta sobre el tema a tratar en esta Webinar\, podrás remitírnosla previamente al correo: info@consejoandaluzgraduadossociales.com\, hasta el día 30 de septiembre\,  y será contestada en el transcurso de la webinar. \nEspero contar dicho día contigo\, recordándote reserves en tu agenda un hueco para inscribirte a dicha Webinar\, en la que trataremos estas ayudas en profundidad y conocerás de primera mano los requisitos y cuantías para acceder a estas ayudas y donde podremos resolver muchas dudas al respecto. \nUn fuerte abrazo. \nFdo.: José Blas Fernández Sánchez.\nPresidente. \nprograma_ayuda_autonomos_dd2p5db8g6dk
URL:https://consejoandaluzgraduadossociales.com/evento/webinar-ayudas-inicio-de-actividad-para-el-fomento-del-trabajo-autonomo/
LOCATION:WEBINAR
CATEGORIES:Cursos - Webinar
ATTACH;FMTTYPE=image/jpeg:https://consejoandaluzgraduadossociales.com/wp-content/uploads/2025/09/IMG-20250926-WA0009.jpg
END:VEVENT
BEGIN:VEVENT
DTSTART;TZID=UTC:20251009T173000
DTEND;TZID=UTC:20251009T183000
DTSTAMP:20260420T063654
CREATED:20250928T101153Z
LAST-MODIFIED:20250928T101153Z
UID:8132-1760031000-1760034600@consejoandaluzgraduadossociales.com
SUMMARY:WEBINAR  “REGLAMENTO DE REQUISITOS DE LOS SISTEMAS INFORMÁTICOS DE FACTURACIÓN (VERIFÍCATE)”
DESCRIPTION:Cádiz\, 22 de septiembre de 2025 \nEstimado/a compañero/a y amigo/a: \nPor medio del presente\, te remito en archivo  el programa definitivo\, así como inscripción del Seminario Online sobre el REGLAMENTO DE REQUISITOS DE LOS SISTEMAS INFORMÁTICOS DE FACTURACIÓN (VERIFÍCATE)””\, organizado por el Excmo. Consejo Andaluz de Colegios Oficiales de Graduados Sociales\, en colaboración con la AEAT\, que tendrá lugar el próximo 9 de octubre\, en horario de 17:30 h a 18:30 h\, dirigida a los Graduados/as Sociales ejercientes. Contaremos en esta ocasión\, como ponente\,  con Don José María Rodríguez Coronilla\, Jefe de Informática Tributaria en la Delegación de la AEAT de Jerez de la Frontera. \nIndicarte que\, si quieres formular alguna pregunta sobre el tema a tratar en esta Webinar\, podrás remitírnosla previamente al correo: info@consejoandaluzgraduadossociales.com  y será contestada en el transcurso de la webinar. \nEspero contar dicho día contigo\, recordándote reserves en tu agenda un hueco para inscribirte a dicha Webinar\, en la que trataremos este tema sumamente interesante  y que nos afecta de lleno y donde podremos resolver muchas dudas al respecto. \nUn fuerte abrazo. \nFdo.: José Blas Fernández Sánchez.\nPresidente. \nPrograma Webinar
URL:https://consejoandaluzgraduadossociales.com/evento/webinar-reglamento-de-requisitos-de-los-sistemas-informaticos-de-facturacion-verificate/
LOCATION:WEBINAR
CATEGORIES:Cursos - Webinar
ATTACH;FMTTYPE=application/pdf:https://consejoandaluzgraduadossociales.com/wp-content/uploads/2025/09/programaverifactu-1.pdf
END:VEVENT
END:VCALENDAR