BEGIN:VCALENDAR
VERSION:2.0
PRODID:-//Consejo Andaluz de Graduados sociales - ECPv6.15.20//NONSGML v1.0//EN
CALSCALE:GREGORIAN
METHOD:PUBLISH
X-WR-CALNAME:Consejo Andaluz de Graduados sociales
X-ORIGINAL-URL:https://consejoandaluzgraduadossociales.com
X-WR-CALDESC:Eventos para Consejo Andaluz de Graduados sociales
REFRESH-INTERVAL;VALUE=DURATION:PT1H
X-Robots-Tag:noindex
X-PUBLISHED-TTL:PT1H
BEGIN:VTIMEZONE
TZID:UTC
BEGIN:STANDARD
TZOFFSETFROM:+0000
TZOFFSETTO:+0000
TZNAME:UTC
DTSTART:20240101T000000
END:STANDARD
END:VTIMEZONE
BEGIN:VEVENT
DTSTART;TZID=UTC:20251209T170000
DTEND;TZID=UTC:20251209T190000
DTSTAMP:20260420T035756
CREATED:20251205T111723Z
LAST-MODIFIED:20251205T111723Z
UID:8276-1765299600-1765306800@consejoandaluzgraduadossociales.com
SUMMARY:Córdoba: Jornada formativa sobre la normativa de Empleadas del Hogar\, Registro Horario y VERIFACTU
DESCRIPTION:El Colegio Oficial de Graduados Sociales de Córdoba organiza de una nueva jornada formativa dirigida a colegiados y profesionales del ámbito jurídico-laboral con el objetivo de actualizar conocimientos y reforzar el cumplimiento normativo en materias que afectan de manera directa a la gestión diaria de empresas\, despachos y empleadores particulares. \nEl encuentro tendrá lugar el martes 9 de diciembre de 2025\, a las 17:00 horas\, y se desarrollará en modalidad presencial y online\, facilitando así la asistencia de todos los interesados. \nContenidos de la jornada\nLa sesión abordará tres bloques fundamentales de normativa reciente y de aplicación inmediata: \n1. Normativa de Personas Trabajadoras al Servicio del Hogar Familiar (Real Decreto-ley 16/2022\, de 6 de septiembre)\nSe repasarán las principales novedades introducidas por esta norma\, tanto en materia de condiciones laborales como de Seguridad Social\, así como las obligaciones empresariales derivadas.La formación incluirá también un análisis comparado entre el marco anterior y la regulación vigente\, para clarificar de forma práctica qué aspectos han cambiado y cuáles son las medidas preventivas mínimas que deben implementarse. \n2. Normativa de Registro Horario (Real Decreto-ley 8/2019\, de 8 de marzo)\nEl segundo bloque se centrará en el registro obligatorio de la jornada laboral\, revisando criterios interpretativos\, obligaciones y responsabilidades empresariales.Además\, se ofrecerá una aproximación al futuro Registro Horario Digital\, su posible implementación y el impacto que tendrá en la organización interna de empresas y empleadores. \n3. Reglamento VERIFACTU (Real Decreto-ley 1007/2023\, de 5 de diciembre)\nPara cerrar la jornada\, se presentará una introducción completa al sistema VERIFACTU\, su propósito y el alcance de las nuevas obligaciones en materia de verificación documental.Se detallarán los requisitos técnicos\, la integración con los softwares de gestión y los plazos previstos para su implantación\, con el fin de anticipar escenarios y facilitar la adaptación. \nLa jornada se plantea como una oportunidad para profundizar en tres marcos normativos clave que marcarán la actividad profesional durante los próximos meses. \nInscripciones: secretaria@graduadossocialcordoba.es \nEl Colegio invita a todos los colegiados y colegiadas a participar en esta sesión formativa diseñada para ofrecer seguridad jurídica\, claridad práctica y preparación ante los nuevos cambios normativos.
URL:https://consejoandaluzgraduadossociales.com/evento/cordoba-jornada-formativa-sobre-la-normativa-de-empleadas-del-hogar-registro-horario-y-verifactu/
LOCATION:Ilustre Colegio de Graduados Sociales de Córdoba\, Av. Ronda de los Tejares\, 32\, Córdoba\, Córdoba\, 14001\, España
CATEGORIES:Cursos - Webinar
ATTACH;FMTTYPE=image/jpeg:https://consejoandaluzgraduadossociales.com/wp-content/uploads/2025/12/unnamed.jpg
ORGANIZER;CN="Colegio Oficial de Graduados Sociales de C%C3%B3rdoba":MAILTO:secretaria@graduadosocialcordoba.es
END:VEVENT
END:VCALENDAR