BEGIN:VCALENDAR
VERSION:2.0
PRODID:-//Consejo Andaluz de Graduados sociales - ECPv6.15.20//NONSGML v1.0//EN
CALSCALE:GREGORIAN
METHOD:PUBLISH
X-ORIGINAL-URL:https://consejoandaluzgraduadossociales.com
X-WR-CALDESC:Eventos para Consejo Andaluz de Graduados sociales
REFRESH-INTERVAL;VALUE=DURATION:PT1H
X-Robots-Tag:noindex
X-PUBLISHED-TTL:PT1H
BEGIN:VTIMEZONE
TZID:UTC
BEGIN:STANDARD
TZOFFSETFROM:+0000
TZOFFSETTO:+0000
TZNAME:UTC
DTSTART:20210101T000000
END:STANDARD
END:VTIMEZONE
BEGIN:VEVENT
DTSTART;TZID=UTC:20220929T100000
DTEND;TZID=UTC:20220929T120000
DTSTAMP:20260425T013840
CREATED:20220928T102042Z
LAST-MODIFIED:20220928T102042Z
UID:5145-1664445600-1664452800@consejoandaluzgraduadossociales.com
SUMMARY:Almería: Jornada sobre la Reforma del Reglamento de Extranjería
DESCRIPTION:El Colegio Oficial de Graduados Sociales de Almería impartirá el próximo día 29 de septiembre (jueves) a las 10:00 horas una jornada sobre el nuevo Reglamento de Extranjería\, según el Real Decreto 629/2022\, de 26 de julio\, por el que se modifica el Reglamento de la Ley Orgánica 4/2000\, sobre derechos y libertades de los extranjeros en España y su integración social\, tras su reforma por Ley Orgánica 2/2009\, aprobado por el Real Decreto 557/2011\, de 20 de abril.\n\n \n\nPonente:  Francisco Javier Durán Ruíz\, Jefe de la Oficina de Extranjería de Almería.
URL:https://consejoandaluzgraduadossociales.com/evento/almeria-jornada-sobre-la-reforma-del-reglamento-de-extranjeria/
LOCATION:Centro de Cultura Cajamar Puerta Purchena » Las Mariposas»\, Puerta de Purchena\, 6\, Almería\, 04001\, España
CATEGORIES:Eventios
ATTACH;FMTTYPE=image/jpeg:https://consejoandaluzgraduadossociales.com/wp-content/uploads/2022/09/CARTEL.jpg
ORGANIZER;CN="Colegio Oficial de Graduados Sociales de Almer%C3%ADa":MAILTO:yolanda@cgsalmeria.com
END:VEVENT
END:VCALENDAR