BEGIN:VCALENDAR
VERSION:2.0
PRODID:-//Consejo Andaluz de Graduados sociales - ECPv6.15.20//NONSGML v1.0//EN
CALSCALE:GREGORIAN
METHOD:PUBLISH
X-ORIGINAL-URL:https://consejoandaluzgraduadossociales.com
X-WR-CALDESC:Eventos para Consejo Andaluz de Graduados sociales
REFRESH-INTERVAL;VALUE=DURATION:PT1H
X-Robots-Tag:noindex
X-PUBLISHED-TTL:PT1H
BEGIN:VTIMEZONE
TZID:UTC
BEGIN:STANDARD
TZOFFSETFROM:+0000
TZOFFSETTO:+0000
TZNAME:UTC
DTSTART:20230101T000000
END:STANDARD
END:VTIMEZONE
BEGIN:VEVENT
DTSTART;TZID=UTC:20240404T080000
DTEND;TZID=UTC:20240405T170000
DTSTAMP:20260422T100726
CREATED:20240105T101603Z
LAST-MODIFIED:20240124T080911Z
UID:6537-1712217600-1712336400@consejoandaluzgraduadossociales.com
SUMMARY:ALMERÍA: II JORNADAS DE EXTRANJERÍA DEL COLEGIO OFICIAL DE GRADUADOS SOCIAES
DESCRIPTION:𝐈𝐈 𝐉𝐎𝐑𝐍𝐀𝐃𝐀𝐒 𝐃𝐄 𝐄𝐗𝐓𝐑𝐀𝐍𝐉𝐄𝐑𝐈𝐀\, organizadas por este Iltre. Colegio Oficial de Graduados Sociales de Almería\, \n– 𝐅𝐄𝐂𝐇𝐀𝐒: 𝟒 𝐘 𝟓 𝐃𝐄 𝐀𝐁𝐑𝐈𝐋. \n– 𝐋𝐔𝐆𝐀𝐑: 𝐇𝐨𝐭𝐞𝐥 𝐄𝐧𝐯𝐢𝐚 𝐀𝐥𝐦𝐞𝐫𝐢𝐚 𝐒𝐩𝐚&𝐆𝐨𝐥𝐟
URL:https://consejoandaluzgraduadossociales.com/evento/almeria-ii-jornadas-de-extranjeria-del-colegio-oficial-de-graduados-sociaes/
LOCATION:Hotel Envía Almería Spa & Golf\, Hotel Envía Almería Spa & Golf\, Tr.ª de La Envía\, s/n\, 04727\, Valle de la Envía\, Almería\, 04727\, España
CATEGORIES:Jornadas
ATTACH;FMTTYPE=image/png:https://consejoandaluzgraduadossociales.com/wp-content/uploads/2024/01/image008.png
ORGANIZER;CN="Colegio Oficial de Graduados Sociales de Almer%C3%ADa":MAILTO:yolanda@cgsalmeria.com
END:VEVENT
BEGIN:VEVENT
DTSTART;TZID=UTC:20240412T093000
DTEND;TZID=UTC:20240412T143000
DTSTAMP:20260422T100726
CREATED:20240315T122231Z
LAST-MODIFIED:20240315T122324Z
UID:6678-1712914200-1712932200@consejoandaluzgraduadossociales.com
SUMMARY:Córdoba: VI Jornada Formativa de la Primavera de ASNALA
DESCRIPTION:El Consejo Andaluz de Colegios Oficiales de Graduados Sociales va a colaborar en la celebración de la VI Jornada Formativa de la Primavera de ASNALA\, un evento crucial para el avance y la actualización profesional en el ámbito de las ciencias sociales y jurídicas\, que tendrá lugar el próximo 12 de abril en el Colegio de Abogados de Córdoba\, además de estar disponible en formato online. \n\n\n\nEl presidente del Consejo\, José Blas Fernández Sánchez\, expresó su entusiasmo por la realización de este evento: «Es para nosotros un honor coadyuvar en la organización de una jornada tan significativa como esta\, que no solo es un espacio de aprendizaje y debate\, sino también una muestra del compromiso constante de nuestro Consejo con la excelencia profesional. Estamos convencidos de que este encuentro enriquecerá a todos los participantes\, ofreciéndoles nuevas perspectivas y herramientas en el ámbito del derecho laboral y la seguridad social.» \n\n\n\nEste año\, la jornada contará con la participación de eminentes expertos que abordarán temas de gran relevancia: \n\n\n\n\nRamón Gallo Llanos\, magistrado de la Sala de lo Social de la Audiencia Nacional\, presentará «Jurisprudencia fundamental en materia de despido colectivo».\n\n\n\nAinhoa Herrero Lezana\, Client Solutions Director (Reestructuring Area) en LHH\, hablará sobre «La exigencia de la nueva norma respecto a la notificación previa de 6 meses en caso de cierre de un centro de trabajo. Real decreto 608/2023».\n\n\n\nJesús Serrano Contreras\, inspector de Trabajo y de la Seguridad Social en Córdoba\, discutirá «Las modalidades de contratación temporal y la actuación de la Inspección de Trabajo en Córdoba».\n\n\n\nAntonio Costa Reyes\, profesor de Derecho del Trabajo y de la Seguridad Social de la UCO\, explicará «Claves para entender la sentencia del TJUE de 22 de febrero de 2024 sobre los trabajadores indefinidos no fijos e interinos en las Administraciones Públicas».\n\n\n\n\nAdemás\, en reconocimiento a la colaboración con ASNALA (Asociación Nacional de Laboralistas)\, se ofrece un precio especial para los Graduados Sociales de Andalucía\, destacando la importancia de facilitar el acceso a este tipo de formación continua. «Este evento representa una oportunidad inigualable para la actualización profesional y el intercambio de conocimientos. Esperamos una participación entusiasta tanto en la modalidad presencial como online»\, concluyó Fernández Sánchez. \n\n\n\nPara más información y detalles sobre el programa del evento\, invitamos a los interesados a consultar el enlace proporcionado. Programa VI Jornada Formativa de primavera – Córdoba 12.04.2024 \n\n\n\n 
URL:https://consejoandaluzgraduadossociales.com/evento/cordoba-vi-jornada-formativa-de-la-primavera-de-asnala/
LOCATION:Colegio de Abogados de Cordoba\, Calle Morería nº 5\, Córdoba\, Córdoba\, 14008\, España
CATEGORIES:Eventios
ATTACH;FMTTYPE=image/png:https://consejoandaluzgraduadossociales.com/wp-content/uploads/2024/03/Captura-de-pantalla-2024-03-15-125834.png
END:VEVENT
BEGIN:VEVENT
DTSTART;TZID=UTC:20240419T170000
DTEND;TZID=UTC:20240419T210000
DTSTAMP:20260422T100726
CREATED:20240416T102133Z
LAST-MODIFIED:20240417T144436Z
UID:6771-1713546000-1713560400@consejoandaluzgraduadossociales.com
SUMMARY:Málaga: EXPERTO EN EXTRANJERIA -LA GESTION DE LA PROTECCION SOCIAL DE LAS PERSONAS MIGRANTES
DESCRIPTION:
URL:https://consejoandaluzgraduadossociales.com/evento/sesion-en-la-sede-colegial-del-vii-experto-en-extranjeria-la-gestion-de-la-proteccion-social-de-las-personas-migrantes/
LOCATION:Colegio Oficial de Graduados Sociales de Málaga y Melilla\, Compañía 17 Bajo\,\, Málaga\, Málaga\, 29008\, España
CATEGORIES:Eventos
ORGANIZER;CN="Colegio Oficial de Graduados Sociales de M%C3%A1laga y Melilla":MAILTO:secretariacgs@graduadosociales.com
END:VEVENT
BEGIN:VEVENT
DTSTART;TZID=UTC:20240429T160000
DTEND;TZID=UTC:20240429T193000
DTSTAMP:20260422T100726
CREATED:20240416T101612Z
LAST-MODIFIED:20240417T144543Z
UID:6764-1714406400-1714419000@consejoandaluzgraduadossociales.com
SUMMARY:Málaga: JORNADA IMPUESTO SOBRE LA RENTA PERSONAS FISICAS 2023
DESCRIPTION:
URL:https://consejoandaluzgraduadossociales.com/evento/jornada-impuesto-sobre-la-renta-personas-fisicas-2023-29-04-24/
LOCATION:Colegio Oficial de Graduados Sociales de Málaga y Melilla\, Compañía 17 Bajo\,\, Málaga\, Málaga\, 29008\, España
CATEGORIES:Jornadas
ORGANIZER;CN="Colegio Oficial de Graduados Sociales de M%C3%A1laga y Melilla":MAILTO:secretariacgs@graduadosociales.com
END:VEVENT
END:VCALENDAR