BEGIN:VCALENDAR
VERSION:2.0
PRODID:-//Consejo Andaluz de Graduados sociales - ECPv6.15.20//NONSGML v1.0//EN
CALSCALE:GREGORIAN
METHOD:PUBLISH
X-WR-CALNAME:Consejo Andaluz de Graduados sociales
X-ORIGINAL-URL:https://consejoandaluzgraduadossociales.com
X-WR-CALDESC:Eventos para Consejo Andaluz de Graduados sociales
REFRESH-INTERVAL;VALUE=DURATION:PT1H
X-Robots-Tag:noindex
X-PUBLISHED-TTL:PT1H
BEGIN:VTIMEZONE
TZID:UTC
BEGIN:STANDARD
TZOFFSETFROM:+0000
TZOFFSETTO:+0000
TZNAME:UTC
DTSTART:20230101T000000
END:STANDARD
END:VTIMEZONE
BEGIN:VEVENT
DTSTART;TZID=UTC:20241105T093000
DTEND;TZID=UTC:20241105T183000
DTSTAMP:20260422T083752
CREATED:20241020T154647Z
LAST-MODIFIED:20241020T154647Z
UID:7185-1730799000-1730831400@consejoandaluzgraduadossociales.com
SUMMARY:Huelva:  VII Jornada Laboralista\, Fiscal y de la Seguridad Social
DESCRIPTION:Programa VII Jornada Laboralista de Huelva
URL:https://consejoandaluzgraduadossociales.com/evento/huelva-vii-jornada-laboralista-fiscal-y-de-la-seguridad-social/
LOCATION:CASA COLÓN\, Plaza del Punto\, 6\, Huelva\, Huelva\, 21003\, España
CATEGORIES:Jornadas
ATTACH;FMTTYPE=image/jpeg:https://consejoandaluzgraduadossociales.com/wp-content/uploads/2024/10/Captura-de-pantalla-2024-10-20-174602.jpg
ORGANIZER;CN="ILUSTRE COLEGIO OFICIAL DE GRADUADOS SOCIALES HUELVA":MAILTO:secretariatecnica@graduadosocialhuelva.com
END:VEVENT
BEGIN:VEVENT
DTSTART;TZID=UTC:20241105T193000
DTEND;TZID=UTC:20241105T210000
DTSTAMP:20260422T083752
CREATED:20241104T154455Z
LAST-MODIFIED:20241104T154455Z
UID:7215-1730835000-1730840400@consejoandaluzgraduadossociales.com
SUMMARY:MÁLAGA\, NOVIEMBRE CULTURAL - TEATRO: "MONOLOGOS DE LA PASION" POR EVENTOS CON HISTORIA
DESCRIPTION:Este martes 5 de noviembre a las 19:30h. te esperamos en nuestra sede colegial para disfrutar del teatro “Monologos de la Pasión” por EVENTOS CON HISTORIA. \nComo ya hemos informado este año El «Noviembre Cultural será el más solidario»\, destinaremos nuestros esfuerzos y actividades a apoyar a las personas afectadas por la reciente DANA que ha afectado a muchos lugares de España\, en especial gravedad en las provincias de Valencia\, Albacete y Ciudad Real. \nConscientes de la difícil situación que atraviesan muchas familias tras los devastadores efectos de esta catástrofe natural\, hemos decidió organizar una campaña solidaria de recogida de alimentos y donativos. \nCada acto de noviembre cultural será un momento especial de solidaridad. \nAgradecemos tus donaciones. \nPARTICIPA EL PROXIMO DIA 5 DE NOVIEMBRE \nEl Noviembre Cultural más solidario.\nRecogida de alimentos y donativos para los damnificados por la DANA \nEl Colegio de Graduados Sociales de Málaga y Melilla anuncia que\, en el marco de nuestro tradicional Noviembre Cultural\, este año destinaremos nuestros esfuerzos y actividades a apoyar a las personas afectadas por la reciente DANA que ha afectado a muchos lugares de España\, en especial gravedad en las provincias de Valencia\, Albacete y Ciudad Real. \nConscientes de la difícil situación que atraviesan muchas familias tras los devastadores efectos de esta catástrofe natural\, hemos decidido organizar una campaña solidaria de recogida de alimentos y donativos. Esta iniciativa tiene como objetivo contribuir a la reconstrucción de las vidas de quienes han perdido tanto\, y será posible gracias a la colaboración con dos entidades de gran trayectoria y compromiso social. \n¿Cómo participar?\nDurante todo el mes de noviembre\, el Colegio pondrá a disposición de los ciudadanos y colegiados puntos de recogida en nuestras instalaciones\, de calles Compañía 17\, de Málaga\, donde se podrán depositar alimentos no perecederos y productos de primera necesidad.\nCada acto de noviembre cultural será un momento especial de solidaridad aportando ayuda al Banco de Alimentos. \nAdemás\, disponemos de la FILA CERO\, habilitada para la zarzuela benéfica\, siendo la vía más adecuada para este objetivo solidario. \nDetalles de la campaña:\nFechas: 5 al 29 de noviembre de 2024\nLugar de recogida: Sede del Colegio de Graduados Sociales de Málaga y Melilla\nDonativos: Podrán realizarse directamente en la cuenta habilitada por el Colegio ES66 2103 2064 4100 3000 6965 \nInvitamos a toda la comunidad de Málaga y Melilla a unirse a esta causa solidaria\, recordando que cada pequeño aporte puede hacer una gran diferencia para quienes más lo necesitan.\nAgradecemos de antemano la generosidad de todos y todas\, y la confianza en nuestro Colegio para canalizar esta ayuda en un momento tan crítico.\nJuntos\, podemos contribuir a la reconstrucción y el bienestar de nuestras comunidades afectadas. \n 
URL:https://consejoandaluzgraduadossociales.com/evento/malaga-noviembre-cultural-teatro-monologos-de-la-pasion-por-eventos-con-historia/
LOCATION:Colegio Oficial de Graduados Sociales de Málaga y Melilla\, Compañía 17 Bajo\,\, Málaga\, Málaga\, 29008\, España
CATEGORIES:Eventos
ATTACH;FMTTYPE=image/jpeg:https://consejoandaluzgraduadossociales.com/wp-content/uploads/2024/11/unnamed-5.jpg
ORGANIZER;CN="Colegio Oficial de Graduados Sociales de M%C3%A1laga y Melilla":MAILTO:secretariacgs@graduadosociales.com
END:VEVENT
BEGIN:VEVENT
DTSTART;TZID=UTC:20241108T080000
DTEND;TZID=UTC:20241108T170000
DTSTAMP:20260422T083752
CREATED:20240911T101732Z
LAST-MODIFIED:20241008T164616Z
UID:7083-1731052800-1731085200@consejoandaluzgraduadossociales.com
SUMMARY:BAEZA\, JAÉN: I JORNADA AGROLABORAL
DESCRIPTION:El Colegio Oficial de Graduados Sociales de Jaén organiza la I Jornada Agrolaboral\, que tendrán lugar\, el próximo día 8 de noviembre de 2024\, en Baeza\, en el Auditorio de las antiguas ruinas de San Francisco\, sito en Pl. San Francisco\, 10\, 23440 Baeza\,(Jaén)\, donde tratarán de profundizar en las últimas novedades del ámbito agrario laboral\, abordando temas de los derechos laborales\, y la especial visión de ellos desde el punto de vista de la Administración pública. \nEsta  Jornada se ha configurado atendiendo a los criterios actuales del ámbito agro laboral\, de interés en el desarrollo de la actividad profesional. Las novedades de las temáticas relacionadas con el ámbito laboral y especialmente agrario suponen la columna vertebral de las ponencias impartidas por reconocidos y prestigiosos profesionales del ámbito académico\, jurídico y de la administración. \nCatedráticos\, Inspectores de Trabajo y Seguridad social y Directoras Provinciales de la Administración\, impartirán desde la praxis científica sus ponencias convirtiéndose en un interactivo y directo foro de opinión\, en donde todos nuestros profesionales y operadores jurídicos sociales podrán intercambiar impresiones\, analizar y valorar los temas tratados. \nDiptico_definitivo \nJORNADA GRATUITA para Graduados Sociales Colegiados y Estudiantes del Grado de Relaciones Laborales y Recursos Humanos\nOtros Profesionales: 60\,00€\nEmpleados de Despachos: 30\,00€\nAlmuerzo de Trabajo: 23\,00€\n* La inscripción no incluye el almuerzo de trabajo.\nFecha límite de inscripción e ingresos: 31/10/2024\nCAJA RURAL: ES35 3067 0100 2111 4740 3321\nPLAZAS LIMITADAS \n 
URL:https://consejoandaluzgraduadossociales.com/evento/jaen-i-jornadas-nacionales-cuestiones-actuales-del-trabajo-en-el-sector-agricola-respuestas-desde-el-ordenamiento-juridico-y-el-ambito-profesional/
LOCATION:Auditorio de las Antiguas Ruinas de San Francisco\, Plaza de San Francisco\, 10\, Baeza\, Jaén
CATEGORIES:Eventios,Eventos,Jornadas
ATTACH;FMTTYPE=image/jpeg:https://consejoandaluzgraduadossociales.com/wp-content/uploads/2024/09/Captura-de-pantalla-2024-10-08-184123.jpg
END:VEVENT
BEGIN:VEVENT
DTSTART;TZID=UTC:20241113T100000
DTEND;TZID=UTC:20241113T120000
DTSTAMP:20260422T083752
CREATED:20241105T162803Z
LAST-MODIFIED:20241105T162815Z
UID:7218-1731492000-1731499200@consejoandaluzgraduadossociales.com
SUMMARY:Málaga: "JORNADA ACTUALIZACION NORMATIVA DE SEGURIDAD SOCIAL 2024"
DESCRIPTION:ÚLTIMAS PLAZAS! Plazas limitadas por orden de inscripción \n Más información:\nEva Catalá. Gestión del Mutualista\nTelef: 666400204 email: ecatala@mc-mutual.com\nMª Jose González\nTelef: 616 20 30 59 email:  mgonzalezv@mc-mutual.com\n \n 
URL:https://consejoandaluzgraduadossociales.com/evento/malaga-jornada-actualizacion-normativa-de-seguridad-social-2024/
LOCATION:Colegio Oficial de Graduados Sociales de Málaga y Melilla\, Compañía 17 Bajo\,\, Málaga\, Málaga\, 29008\, España
CATEGORIES:Jornadas
ORGANIZER;CN="Colegio Oficial de Graduados Sociales de M%C3%A1laga y Melilla":MAILTO:secretariacgs@graduadosociales.com
END:VEVENT
BEGIN:VEVENT
DTSTART;TZID=UTC:20241114T100000
DTEND;TZID=UTC:20241114T120000
DTSTAMP:20260422T083752
CREATED:20241108T153816Z
LAST-MODIFIED:20241108T153829Z
UID:7262-1731578400-1731585600@consejoandaluzgraduadossociales.com
SUMMARY:Málaga: JORNADA “PROGRAMA DE REGULARIZACIÓN ANUAL DE BASES DE COTIZACIÓN Y CUOTAS DE LA SEGURIDAD SOCIAL RETA”
DESCRIPTION:
URL:https://consejoandaluzgraduadossociales.com/evento/malaga-jornada-programa-de-regularizacion-anual-de-bases-de-cotizacion-y-cuotas-de-la-seguridad-social-reta/
LOCATION:Colegio Oficial de Graduados Sociales de Málaga y Melilla\, Compañía 17 Bajo\,\, Málaga\, Málaga\, 29008\, España
ORGANIZER;CN="Colegio Oficial de Graduados Sociales de M%C3%A1laga y Melilla":MAILTO:secretariacgs@graduadosociales.com
END:VEVENT
BEGIN:VEVENT
DTSTART;VALUE=DATE:20241121
DTEND;VALUE=DATE:20241122
DTSTAMP:20260422T083752
CREATED:20240708T084156Z
LAST-MODIFIED:20240708T084156Z
UID:7028-1732147200-1732233599@consejoandaluzgraduadossociales.com
SUMMARY:ACTOS PATRONALES DEL EXCMO. COLEGIO OF. DE GRADUADOS SOCIALES DE GRANADA
DESCRIPTION:
URL:https://consejoandaluzgraduadossociales.com/evento/actos-patronales-del-excmo-colegio-of-de-graduados-sociales-de-granada/
LOCATION:Cádiz
ATTACH;FMTTYPE=image/png:https://consejoandaluzgraduadossociales.com/wp-content/uploads/2024/07/Granada.png
ORGANIZER;CN="Colegio Oficial de Graduados Sociales de Granada":MAILTO:administracion@cgsgranada.es
END:VEVENT
BEGIN:VEVENT
DTSTART;TZID=UTC:20241121T193000
DTEND;TZID=UTC:20241121T210000
DTSTAMP:20260422T083752
CREATED:20241023T182058Z
LAST-MODIFIED:20241023T182220Z
UID:7193-1732217400-1732222800@consejoandaluzgraduadossociales.com
SUMMARY:Málaga: ZARZUELA "LA REVOLTOSA"
DESCRIPTION:
URL:https://consejoandaluzgraduadossociales.com/evento/7193/
LOCATION:Sala de Conciertos María Cristina\, Calle Marques de Valdecañas 2.\, Málaga\, Málaga\, 29008
ATTACH;FMTTYPE=image/jpeg:https://consejoandaluzgraduadossociales.com/wp-content/uploads/2024/10/unnamed.jpg
ORGANIZER;CN="Colegio Oficial de Graduados Sociales de M%C3%A1laga y Melilla":MAILTO:secretariacgs@graduadosociales.com
END:VEVENT
BEGIN:VEVENT
DTSTART;VALUE=DATE:20241122
DTEND;VALUE=DATE:20241123
DTSTAMP:20260422T083752
CREATED:20240708T084935Z
LAST-MODIFIED:20240708T084935Z
UID:7032-1732233600-1732319999@consejoandaluzgraduadossociales.com
SUMMARY:ACTOS PATRONALES DEL ILTRE. COLEGIO OF. DE CÓRDOBA
DESCRIPTION:
URL:https://consejoandaluzgraduadossociales.com/evento/actos-patronales-del-iltre-colegio-of-de-cordoba/
LOCATION:Cádiz
ATTACH;FMTTYPE=image/svg+xml:https://consejoandaluzgraduadossociales.com/wp-content/uploads/2024/07/logo-gscordoba.svg
ORGANIZER;CN="Colegio Oficial de Graduados Sociales de C%C3%B3rdoba":MAILTO:secretaria@graduadosocialcordoba.es
END:VEVENT
END:VCALENDAR