BEGIN:VCALENDAR
VERSION:2.0
PRODID:-//Consejo Andaluz de Graduados sociales - ECPv6.15.20//NONSGML v1.0//EN
CALSCALE:GREGORIAN
METHOD:PUBLISH
X-WR-CALNAME:Consejo Andaluz de Graduados sociales
X-ORIGINAL-URL:https://consejoandaluzgraduadossociales.com
X-WR-CALDESC:Eventos para Consejo Andaluz de Graduados sociales
REFRESH-INTERVAL;VALUE=DURATION:PT1H
X-Robots-Tag:noindex
X-PUBLISHED-TTL:PT1H
BEGIN:VTIMEZONE
TZID:UTC
BEGIN:STANDARD
TZOFFSETFROM:+0000
TZOFFSETTO:+0000
TZNAME:UTC
DTSTART:20240101T000000
END:STANDARD
END:VTIMEZONE
BEGIN:VEVENT
DTSTART;VALUE=DATE:20250401
DTEND;VALUE=DATE:20250402
DTSTAMP:20260422T142953
CREATED:20250129T164346Z
LAST-MODIFIED:20250202T113051Z
UID:7587-1743465600-1743551999@consejoandaluzgraduadossociales.com
SUMMARY:Cádiz: nueva edición del Curso de Procedimiento Procesal Laboral
DESCRIPTION:La formación continua de los profesionales del ámbito jurídico-laboral es una prioridad para el Colegio Oficial de Graduados Sociales de Cádiz y Ceuta. Por ello\, la institución pone en marcha una nueva edición del Curso de Procedimiento Procesal Laboral 2025\, diseñado para dotar a los graduados sociales de los conocimientos y herramientas necesarias para su ejercicio profesional. \nEl curso\, organizado por la Escuela de Práctica Jurídica-Laboral «Rafael Martínez Emperador»\, se desarrollará del 1 de abril al 20 de mayo de 2025 y contará con un plantel de expertos de reconocido prestigio. Las sesiones tendrán lugar en el Aula nº 13 de la Facultad de Ciencias del Trabajo de Cádiz\, con un horario de martes y jueves\, de 17:00 a 20:00 horas. \nLa inauguración oficial se celebrará el 1 de abril a las 16:45 horas\, en el salón de actos de la Facultad de Ciencias del Trabajo de Cádiz\, con la presencia de: \n\nJosé Blas Fernández Sánchez\, presidente del colegio oficial de graduados sociales de Cádiz y Ceuta y director de la Escuela de Práctica Jurídica-Laboral.\nIgnacio de Cuevillas Matozzi\, decano de la facultad de ciencias del trabajo de Cádiz.\nThais Guerrero Padrón\, vicedecana de ordenación académica\, calidad e innovación docente de la facultad de ciencias del trabajo de Cádiz.\n\nUn programa formativo de alto nivel\nEl curso abarca los aspectos fundamentales del procedimiento procesal laboral\, desde los actos previos hasta la ejecución de resoluciones judiciales\, incluyendo temas como la conciliación\, el juicio oral\, las modalidades procesales y la mediación en conflictos laborales. \nEntre los ponentes se encuentran reconocidos profesionales del ámbito jurídico-laboral\, como magistrados\, inspectores de trabajo\, letrados de la administración de justicia y graduados sociales con amplia experiencia. \nAlgunos de los temas que se tratarán son:\n✔ Actos previos al proceso y conciliación – Diego Sánchez Gómez\, graduado social y abogado.\n✔ Proceso ordinario y requisitos de las demandas – José Blas Fernández Sánchez.\n✔ Actuaciones preliminares y modalidades procesales – José Blas Fernández Sánchez.\n✔ Procedimiento de impugnación de actos administrativos y cesión ilegal de trabajadores – Fernando Sicre Gilabert\, inspector de trabajo y seguridad social.\n✔ Juicio oral\, Lexnet y medios de prueba – Aurora María Vela Morales\, magistrada-juez del juzgado de lo social nº 4 de Cádiz.\n✔ Procedimiento por despido y salarios de tramitación – Manuel Fraga Núñez\, vicesecretario del colegio oficial de graduados sociales de Cádiz y Ceuta.\n✔ La conciliación laboral\, la reforma laboral de la ley 6/2023 y la acumulación de acciones – José Manuel Seoane Sepúlveda\, secretario coordinador provincial de Cádiz.\n✔ Vista oral y sesión audiovisual práctica – Manuel Carlos Raposo Lagóstena\, graduado social\, abogado y auditor socio-laboral.\n✔ Procedimiento concursal – José Blas Fernández Escobar\, administrador concursal.\n✔ El conflicto y su gestión: la mediación – Diego Sánchez Gómez\, graduado social y abogado.\n✔ Actos previos al proceso\, el conflicto y su gestión: la mediación – María Auxiliadora Moreno Navarro\, graduado social y mediadora.\n✔ Seminario práctico: la vista oral – Manuel Carlos Raposo Lagóstena y Manuel Fraga Núñez. \nInscripciones y plazas limitadas\nEl curso cuenta con un aforo limitado a 40 plazas\, que serán asignadas por riguroso orden de matriculación. La fecha límite de inscripción es el 27 de febrero de 2025. \nLos interesados pueden obtener más información y formalizar su inscripción contactando con el Colegio Oficial de Graduados Sociales de Cádiz y Ceuta: \n📍 Dirección: Glorieta Zona Franca\, Edificio Glorieta\, 3ª Planta\, Oficina 3.2 – 11011 Cádiz.\n📞 Teléfono: 956 27 09 38\n📧 Correo electrónico: colegio@graduadosocialcadiz.com\n🌐 Web: www.graduadosocialcadiz.es \nClausura y certificación\nEl curso será clausurado en una fecha a designar\, con la entrega de un certificado-diploma de participación. Para su obtención\, se requiere una asistencia mínima\, permitiéndose un máximo de tres faltas injustificadas. \nCon esta iniciativa\, el Colegio Oficial de Graduados Sociales de Cádiz y Ceuta reafirma su compromiso con la formación de sus colegiados y con el fortalecimiento de la profesión dentro del ámbito jurídico-laboral. \nprogramacursoprocedimientolaboral2025_a7f60e
URL:https://consejoandaluzgraduadossociales.com/evento/cadiz-nueva-edicion-del-curso-de-procedimiento-procesal-laboral/
LOCATION:FACULTAD DE CIENCIAS DEL TRABAJO UNIVERSIDAD DE CÁDIZ\, Calle Enrique Villegas Vélez\, 1\, Cádiz\, 11002\, España
CATEGORIES:Cursos - Webinar
ATTACH;FMTTYPE=image/webp:https://consejoandaluzgraduadossociales.com/wp-content/uploads/2025/01/DALL·E-2025-01-29-17.37.34-A-professional-training-session-in-a-modern-classroom-setting.-A-group-of-legal-professionals-attentively-listening-to-a-speaker-at-the-front-of-the-r.webp
END:VEVENT
BEGIN:VEVENT
DTSTART;TZID=UTC:20250402T120000
DTEND;TZID=UTC:20250402T140000
DTSTAMP:20260422T142953
CREATED:20250326T111316Z
LAST-MODIFIED:20250326T111437Z
UID:7666-1743595200-1743602400@consejoandaluzgraduadossociales.com
SUMMARY:MÁLAGA: NOVEDADES REAL DECRETO- LEY 11-2024 MEJORA DE COMPATIBILIDAD DE PENSIÓN DE JUBILACIÓN CON EL TRABAJO
DESCRIPTION:
URL:https://consejoandaluzgraduadossociales.com/evento/malaga-novedades-real-decreto-ley-11-2024-mejora-de-compatibilidad-de-pension-de-jubilacion-con-el-trabajo/
LOCATION:Colegio Oficial de Graduados Sociales de Málaga y Melilla\, Compañía 17 Bajo\,\, Málaga\, Málaga\, 29008\, España
CATEGORIES:Eventos,Jornadas
ATTACH;FMTTYPE=image/png:https://consejoandaluzgraduadossociales.com/wp-content/uploads/2025/03/Captura-de-pantalla-2025-03-26-120526.png
ORGANIZER;CN="Colegio Oficial de Graduados Sociales de M%C3%A1laga y Melilla":MAILTO:secretariacgs@graduadosociales.com
END:VEVENT
BEGIN:VEVENT
DTSTART;VALUE=DATE:20250403
DTEND;VALUE=DATE:20250405
DTSTAMP:20260422T142953
CREATED:20250127T114243Z
LAST-MODIFIED:20250127T114244Z
UID:7583-1743638400-1743811199@consejoandaluzgraduadossociales.com
SUMMARY:ALMERÍA: III JORNADAS EXTRANJERÍA 2025 de los GRADUADOS SOCIALES
DESCRIPTION:Estimado/a compañero/a: \nTengo el placer de comunicarte la celebración de nuestras III Jornadas de Extranjería que este Colegio Oficial organiza bajo la dirección académica de D. Francisco Javier Durán Ruíz\, Jefe de la Oficina de Extranjería de Almería\, las cuales están a punto de agotarse. \nEste destacado evento se celebrará los próximos 3 y 4 de abril de 2025 en el Teatro Auditorio Ciudad de Vícar\, sito en Calle de las Artes y de las Letras\, (04738 Puebla de Vícar\, Almería) un espacio ideal para compartir conocimientos y experiencias en torno a esta apasionante materia. \nEn nuestra página web colegial encontraréis toda la información detallada\, el programa completo y el enlace para realizar vuestra inscripción. Podéis acceder directamente a través de este enlace: \nhttps://www.cgsalmeria.com/formacion/nuestros-cursos/1204-iii-jornadas-de-extranjeria-cgsalmeria \n¡No dejéis pasar esta oportunidad única de formación y encuentro profesional! \nPor ello te solicito si así lo estimas conveniente\, des difusión de estas entre los miembros de tu Junta de Gobierno\, así como entre el resto de los colegiados/as de tu provincia\, como estimes oportuno\, por e-mail\, en tu web\, agradeciéndote de antemano dicha difusión \nEsperando vuestra participación y asistencia\, recibid un cordial saludo. \nFdo.: María del Mar Ayala Andújar \nPresidenta    
URL:https://consejoandaluzgraduadossociales.com/evento/almeria-iii-jornadas-extranjeria-2025-de-los-graduados-sociales/
LOCATION:Teatro Auditorio Ciudad de Vícar\, Calle de las Artes y de las Letras\, Puebla de Vícar\, Almería\, 04738\, Spain
CATEGORIES:Eventos,Jornadas
ATTACH;FMTTYPE=image/jpeg:https://consejoandaluzgraduadossociales.com/wp-content/uploads/2025/01/unnamed-7.jpg
ORGANIZER;CN="Colegio Oficial de Graduados Sociales de Almer%C3%ADa":MAILTO:yolanda@cgsalmeria.com
END:VEVENT
BEGIN:VEVENT
DTSTART;TZID=UTC:20250424T100000
DTEND;TZID=UTC:20250424T193000
DTSTAMP:20260422T142953
CREATED:20250408T091523Z
LAST-MODIFIED:20250408T091523Z
UID:7720-1745488800-1745523000@consejoandaluzgraduadossociales.com
SUMMARY:Córdoba: VI Jornada Laboralista con juristas de máximo nivel y ponencias sobre los retos actuales del Derecho del Trabajo
DESCRIPTION:Boletín inscripción VI Jornada Laboralista Córdoba – Digital
URL:https://consejoandaluzgraduadossociales.com/evento/cordoba-vi-jornada-laboralista-con-juristas-de-maximo-nivel-y-ponencias-sobre-los-retos-actuales-del-derecho-del-trabajo/
LOCATION:Facultad de Ciencias del Trabajo de Córdoba\, Calle Adarve S/N\, Córdoba\, Córdoba\, 14001\, Spain
CATEGORIES:Eventos
ATTACH;FMTTYPE=image/jpeg:https://consejoandaluzgraduadossociales.com/wp-content/uploads/2025/04/Imagen-proyector-VI-Jornada-Laboralista-Cordoba-scaled.jpg
ORGANIZER;CN="Colegio Oficial de Graduados Sociales de C%C3%B3rdoba":MAILTO:secretaria@graduadosocialcordoba.es
END:VEVENT
BEGIN:VEVENT
DTSTART;TZID=UTC:20250429T170000
DTEND;TZID=UTC:20250429T200000
DTSTAMP:20260422T142953
CREATED:20250402T104028Z
LAST-MODIFIED:20250402T104029Z
UID:7692-1745946000-1745956800@consejoandaluzgraduadossociales.com
SUMMARY:Córdoba: Jornada Renta\, Sociedades y Novedades Fiscales 2024
DESCRIPTION:
URL:https://consejoandaluzgraduadossociales.com/evento/cordoba-jornada-renta-sociedades-y-novedades-fiscales-2024/
LOCATION:Ilustre Colegio de Graduados Sociales de Córdoba\, Av. Ronda de los Tejares\, 32\, Córdoba\, Córdoba\, 14001\, España
CATEGORIES:Jornadas
ORGANIZER;CN="Colegio Oficial de Graduados Sociales de C%C3%B3rdoba":MAILTO:secretaria@graduadosocialcordoba.es
END:VEVENT
END:VCALENDAR