BEGIN:VCALENDAR
VERSION:2.0
PRODID:-//Consejo Andaluz de Graduados sociales - ECPv6.15.20//NONSGML v1.0//EN
CALSCALE:GREGORIAN
METHOD:PUBLISH
X-ORIGINAL-URL:https://consejoandaluzgraduadossociales.com
X-WR-CALDESC:Eventos para Consejo Andaluz de Graduados sociales
REFRESH-INTERVAL;VALUE=DURATION:PT1H
X-Robots-Tag:noindex
X-PUBLISHED-TTL:PT1H
BEGIN:VTIMEZONE
TZID:UTC
BEGIN:STANDARD
TZOFFSETFROM:+0000
TZOFFSETTO:+0000
TZNAME:UTC
DTSTART:20210101T000000
END:STANDARD
END:VTIMEZONE
BEGIN:VEVENT
DTSTART;VALUE=DATE:20220513
DTEND;VALUE=DATE:20220514
DTSTAMP:20260423T111627
CREATED:20220917T104302Z
LAST-MODIFIED:20220917T104447Z
UID:5077-1652400000-1652486399@consejoandaluzgraduadossociales.com
SUMMARY:Actos institucionales de los 8 Colegios de Graduados Sociales de Andalucía
DESCRIPTION:Actos Institucionales de cada Colegio andaluz. \n\nHuelva: 13/05/2022 (viernes) – (ya celebrado)\nJaén: 28/10/2022 (viernes)\nGranada: 04/11/2022 (viernes)\nMálaga y Melilla: 10/11/2022 (jueves)\nSevilla: 16/11/2022 (miércoles)\nCórdoba: 25/11/2022 (viernes)-Fecha probable (por ratificar)\nAlmería: 02/12/2022 (viernes)\nCádiz: 17/12/2022 (sábado)
URL:https://consejoandaluzgraduadossociales.com/evento/conoce-las-fechas-de-los-actos-institucionales-de-los-8-colegios-de-graduados-sociales-de-andalucia/2022-05-13/
ATTACH;FMTTYPE=image/jpeg:https://consejoandaluzgraduadossociales.com/wp-content/uploads/2022/09/Captura-3.jpg
END:VEVENT
END:VCALENDAR