BEGIN:VCALENDAR
VERSION:2.0
PRODID:-//Consejo Andaluz de Graduados sociales - ECPv6.15.20//NONSGML v1.0//EN
CALSCALE:GREGORIAN
METHOD:PUBLISH
X-ORIGINAL-URL:https://consejoandaluzgraduadossociales.com
X-WR-CALDESC:Eventos para Consejo Andaluz de Graduados sociales
REFRESH-INTERVAL;VALUE=DURATION:PT1H
X-Robots-Tag:noindex
X-PUBLISHED-TTL:PT1H
BEGIN:VTIMEZONE
TZID:UTC
BEGIN:STANDARD
TZOFFSETFROM:+0000
TZOFFSETTO:+0000
TZNAME:UTC
DTSTART:20220101T000000
END:STANDARD
END:VTIMEZONE
BEGIN:VEVENT
DTSTART;TZID=UTC:20260205T163000
DTEND;TZID=UTC:20260205T190000
DTSTAMP:20260419T230012
CREATED:20260120T114617Z
LAST-MODIFIED:20260120T114617Z
UID:8369-1770309000-1770318000@consejoandaluzgraduadossociales.com
SUMMARY:Cádiz: JORNADA CON MC MUTUAL ACTUALIZACIÓN NORMATIVA DE LA SEGURIDAD SOCIAL
DESCRIPTION:El Consejo Andaluz de Colegios Oficiales de Graduados Sociales informa de la celebración de una jornada formativa sobre actualización normativa de la Seguridad Social\, que tendrá lugar el próximo 5 de febrero de 2026\, organizada en colaboración con MC Mutual y el Colegio Oficial de Graduados Sociales de Cádiz y Ceuta. \nLa jornada se celebrará en horario de 16:45 a 19:00 horas en la Cámara de Comercio de Jerez\, situada en el Edificio Centro Empresarial\, en la calle Fermín Aranda\, s/n\, de Jerez de la Frontera. \nEsta acción formativa está dirigida a graduados y graduadas sociales y a otros profesionales del ámbito jurídico-laboral\, y tiene como objetivo analizar las principales novedades legislativas y actualizaciones normativas en materia de Seguridad Social previstas para el año 2026\, con un enfoque eminentemente práctico. \nDurante la sesión se abordarán\, entre otras cuestiones\, el Real Decreto-ley 16/2025\, de 23 de diciembre\, relativo a la revalorización de las pensiones y a las normas de cotización a la Seguridad Social\, así como las modificaciones que entran en vigor en 2026 en la pensión de jubilación\, los últimos cambios normativos en los contratos formativos y la situación actual de la regulación reglamentaria del registro de jornada\, actualmente en tramitación. \nLa jornada será impartida por Antonio Benavides Vico\, Graduado Social\, Abogado y Ex Inspector de Trabajo y Seguridad Social\, quien realizará un recorrido exhaustivo por las principales novedades socio-laborales y los cambios normativos más relevantes\, aportando criterios técnicos y claves interpretativas de gran utilidad para el ejercicio profesional. \nLas plazas son limitadas\, por lo que las personas interesadas deberán formalizar su inscripción antes del 4 de febrero\, remitiendo la solicitud correspondiente al correo electrónico colegio@graduadosocialcadiz.com. \nToda la información sobre el programa y el proceso de inscripción puede consultarse en el siguiente enlace:\n🔗 https://graduadosocialcordoba.com/evento/jornada-con-mc-mutual-actualizacion-normativa-de-la-seguridad-social/ \nDesde el Consejo Andaluz de Colegios Oficiales de Graduados Sociales se destaca la importancia de este tipo de iniciativas\, que refuerzan la formación continua\, la actualización técnica y el rigor profesional de los graduados sociales ante un marco normativo en constante evolución. \nPrograma
URL:https://consejoandaluzgraduadossociales.com/evento/cadiz-jornada-con-mc-mutual-actualizacion-normativa-de-la-seguridad-social/
LOCATION:Cámara de Comercio de Jerez\, Jerez\, Cádiz\, Spain
CATEGORIES:Jornadas
ATTACH;FMTTYPE=image/jpeg:https://consejoandaluzgraduadossociales.com/wp-content/uploads/2026/01/Captura-de-pantalla-2026-01-20-121552.jpg
END:VEVENT
BEGIN:VEVENT
DTSTART;TZID=UTC:20250512T091500
DTEND;TZID=UTC:20250512T134500
DTSTAMP:20260419T230012
CREATED:20250408T053049Z
LAST-MODIFIED:20250408T053049Z
UID:7715-1747041300-1747057500@consejoandaluzgraduadossociales.com
SUMMARY:Cádiz: la IV Jornada Laboralista de los graduados sociales reunirá a referentes nacionales del Derecho del Trabajo
DESCRIPTION:El próximo lunes 12 de mayo\, el salón de actos del Edificio Heracles\, ubicado en el recinto interior de la Zona Franca de Cádiz\, acogerá la celebración de la IV Jornada Laboralista\, un encuentro de referencia para los profesionales del Derecho del Trabajo y la Seguridad Social\, organizada por la Escuela de Práctica Jurídica-Laboral “Rafael Martínez Emperador” del Colegio Oficial de Graduados Sociales de Cádiz y Ceuta\, en colaboración con la Fundación Justicia Social del Consejo General de Colegios Oficiales de Graduados Sociales de España. \nLa jornada contará con un programa de ponencias de alto nivel jurídico y académico\, protagonizado por destacadas figuras del ámbito judicial. Entre los ponentes invitados se encuentran Ana María Orellana Cano\, magistrada del Turno de Especialistas de la Sala IV del Tribunal Supremo; José Manuel Seoane Sepúlveda\, secretario coordinador provincial de Cádiz; Aurora María Vela Morales\, magistrada-juez del Juzgado de lo Social nº 4 de Cádiz\, y Carlos Javier Galán Gutiérrez\, magistrado-juez del Juzgado de lo Social nº 14 de Sevilla y profesor colaborador de la Universitat Oberta de Catalunya. \nDurante la jornada se abordarán cuestiones prácticas de gran actualidad como la cesión ilegal de trabajadores\, la acumulación de acciones en el proceso laboral\, las novedades introducidas por la Ley Orgánica 1/2025 en el orden social\, o el procedimiento de despido. \nComo elemento destacado\, se llevará a cabo la presentación del libro “Milei más que perros. Una mirada audaz al pensamiento libertario actual: ¿Qué significa realmente ser libre?”\, de  Fernando Sicre Gilabert\, inspector de trabajo y doctor en Derecho y Ciencias Económicas. \n \nEl presidente del Colegio de Graduados Sociales de Cádiz y Ceuta\, José Blas Fernández Sánchez\, ha subrayado “la importancia de espacios como esta jornada para el reciclaje profesional y el análisis riguroso de los constantes cambios legislativos y jurisprudenciales que afectan a nuestro ejercicio diario”. En sus palabras\, “estos encuentros no solo fortalecen el conocimiento técnico\, sino que también nos permiten retomar la convivencia presencial que tanto valoramos y que se vio afectada tras la pandemia”. \nLa jornada está dirigida a graduados sociales\, abogados\, expertos en recursos humanos\, estudiantes del Grado en Relaciones Laborales y\, en general\, a todos los profesionales del ámbito jurídico-laboral. La inscripción es gratuita pero obligatoria\, y podrá realizarse hasta el próximo 30 de abril. \nLa organización recuerda que esta IV Jornada se desarrollará únicamente en formato presencial\, como apuesta por el contacto directo y el intercambio de experiencias. \nBoletín inscripción IV Jornada Laboralista Cádiz – Digital
URL:https://consejoandaluzgraduadossociales.com/evento/cadiz-la-iv-jornada-laboralista-de-los-graduados-sociales-reunira-a-referentes-nacionales-del-derecho-del-trabajo/
LOCATION:Edificio Heracles Zona Franca de Cádiz\, C. Francia\, Cádiz\, Cádiz\, 11011
CATEGORIES:Jornadas
ATTACH;FMTTYPE=image/jpeg:https://consejoandaluzgraduadossociales.com/wp-content/uploads/2025/04/Imagen-proyector-IV-Jornada-Laboralista-Cadiz-scaled.jpg
END:VEVENT
BEGIN:VEVENT
DTSTART;VALUE=DATE:20250401
DTEND;VALUE=DATE:20250402
DTSTAMP:20260419T230012
CREATED:20250129T164346Z
LAST-MODIFIED:20250202T113051Z
UID:7587-1743465600-1743551999@consejoandaluzgraduadossociales.com
SUMMARY:Cádiz: nueva edición del Curso de Procedimiento Procesal Laboral
DESCRIPTION:La formación continua de los profesionales del ámbito jurídico-laboral es una prioridad para el Colegio Oficial de Graduados Sociales de Cádiz y Ceuta. Por ello\, la institución pone en marcha una nueva edición del Curso de Procedimiento Procesal Laboral 2025\, diseñado para dotar a los graduados sociales de los conocimientos y herramientas necesarias para su ejercicio profesional. \nEl curso\, organizado por la Escuela de Práctica Jurídica-Laboral «Rafael Martínez Emperador»\, se desarrollará del 1 de abril al 20 de mayo de 2025 y contará con un plantel de expertos de reconocido prestigio. Las sesiones tendrán lugar en el Aula nº 13 de la Facultad de Ciencias del Trabajo de Cádiz\, con un horario de martes y jueves\, de 17:00 a 20:00 horas. \nLa inauguración oficial se celebrará el 1 de abril a las 16:45 horas\, en el salón de actos de la Facultad de Ciencias del Trabajo de Cádiz\, con la presencia de: \n\nJosé Blas Fernández Sánchez\, presidente del colegio oficial de graduados sociales de Cádiz y Ceuta y director de la Escuela de Práctica Jurídica-Laboral.\nIgnacio de Cuevillas Matozzi\, decano de la facultad de ciencias del trabajo de Cádiz.\nThais Guerrero Padrón\, vicedecana de ordenación académica\, calidad e innovación docente de la facultad de ciencias del trabajo de Cádiz.\n\nUn programa formativo de alto nivel\nEl curso abarca los aspectos fundamentales del procedimiento procesal laboral\, desde los actos previos hasta la ejecución de resoluciones judiciales\, incluyendo temas como la conciliación\, el juicio oral\, las modalidades procesales y la mediación en conflictos laborales. \nEntre los ponentes se encuentran reconocidos profesionales del ámbito jurídico-laboral\, como magistrados\, inspectores de trabajo\, letrados de la administración de justicia y graduados sociales con amplia experiencia. \nAlgunos de los temas que se tratarán son:\n✔ Actos previos al proceso y conciliación – Diego Sánchez Gómez\, graduado social y abogado.\n✔ Proceso ordinario y requisitos de las demandas – José Blas Fernández Sánchez.\n✔ Actuaciones preliminares y modalidades procesales – José Blas Fernández Sánchez.\n✔ Procedimiento de impugnación de actos administrativos y cesión ilegal de trabajadores – Fernando Sicre Gilabert\, inspector de trabajo y seguridad social.\n✔ Juicio oral\, Lexnet y medios de prueba – Aurora María Vela Morales\, magistrada-juez del juzgado de lo social nº 4 de Cádiz.\n✔ Procedimiento por despido y salarios de tramitación – Manuel Fraga Núñez\, vicesecretario del colegio oficial de graduados sociales de Cádiz y Ceuta.\n✔ La conciliación laboral\, la reforma laboral de la ley 6/2023 y la acumulación de acciones – José Manuel Seoane Sepúlveda\, secretario coordinador provincial de Cádiz.\n✔ Vista oral y sesión audiovisual práctica – Manuel Carlos Raposo Lagóstena\, graduado social\, abogado y auditor socio-laboral.\n✔ Procedimiento concursal – José Blas Fernández Escobar\, administrador concursal.\n✔ El conflicto y su gestión: la mediación – Diego Sánchez Gómez\, graduado social y abogado.\n✔ Actos previos al proceso\, el conflicto y su gestión: la mediación – María Auxiliadora Moreno Navarro\, graduado social y mediadora.\n✔ Seminario práctico: la vista oral – Manuel Carlos Raposo Lagóstena y Manuel Fraga Núñez. \nInscripciones y plazas limitadas\nEl curso cuenta con un aforo limitado a 40 plazas\, que serán asignadas por riguroso orden de matriculación. La fecha límite de inscripción es el 27 de febrero de 2025. \nLos interesados pueden obtener más información y formalizar su inscripción contactando con el Colegio Oficial de Graduados Sociales de Cádiz y Ceuta: \n📍 Dirección: Glorieta Zona Franca\, Edificio Glorieta\, 3ª Planta\, Oficina 3.2 – 11011 Cádiz.\n📞 Teléfono: 956 27 09 38\n📧 Correo electrónico: colegio@graduadosocialcadiz.com\n🌐 Web: www.graduadosocialcadiz.es \nClausura y certificación\nEl curso será clausurado en una fecha a designar\, con la entrega de un certificado-diploma de participación. Para su obtención\, se requiere una asistencia mínima\, permitiéndose un máximo de tres faltas injustificadas. \nCon esta iniciativa\, el Colegio Oficial de Graduados Sociales de Cádiz y Ceuta reafirma su compromiso con la formación de sus colegiados y con el fortalecimiento de la profesión dentro del ámbito jurídico-laboral. \nprogramacursoprocedimientolaboral2025_a7f60e
URL:https://consejoandaluzgraduadossociales.com/evento/cadiz-nueva-edicion-del-curso-de-procedimiento-procesal-laboral/
LOCATION:FACULTAD DE CIENCIAS DEL TRABAJO UNIVERSIDAD DE CÁDIZ\, Calle Enrique Villegas Vélez\, 1\, Cádiz\, 11002\, España
CATEGORIES:Cursos - Webinar
ATTACH;FMTTYPE=image/webp:https://consejoandaluzgraduadossociales.com/wp-content/uploads/2025/01/DALL·E-2025-01-29-17.37.34-A-professional-training-session-in-a-modern-classroom-setting.-A-group-of-legal-professionals-attentively-listening-to-a-speaker-at-the-front-of-the-r.webp
END:VEVENT
BEGIN:VEVENT
DTSTART;TZID=UTC:20240508T190000
DTEND;TZID=UTC:20240508T200000
DTSTAMP:20260419T230012
CREATED:20240430T095335Z
LAST-MODIFIED:20240430T095422Z
UID:6804-1715194800-1715198400@consejoandaluzgraduadossociales.com
SUMMARY:Cádiz: conferencia sobre la Hispanidad dentro del programa cultural de los graduados sociales andaluces
DESCRIPTION:El  Consejo Andaluz de Colegios Oficiales de Graduados Sociales ha elegido Cádiz como escenario para el arranque de su calendario de actividades culturales\, anunciando la celebración de una conferencia titulada «Hispanidad: libertad\, mestizaje y solidaridad»\, a cargo de Carlos Manuel Moyano Jurado\, inspector de Trabajo y ex consejero de Empleo de la Embajada de España en México y ámbito funcional en este país y Cuba. \nEste acto tendrá lugar el día 8 de mayo\, miércoles\, a las 19:00 horas\, en la sede del Centro Cultural Fundación Unicaja de Cádiz\, en Cádiz. \nCarlos Manuel Moyano Jurado\, con una extensa trayectoria como licenciado en Derecho e inspector de Trabajo y como consejero en la sede diplomática para México\, Centroamérica y Cuba\, será el encargado disertar sobre la historia de España y su vínculo con la América Española y la Comunidad Iberoamericana\, destacando las virtudes de nuestra cultura compartida con 600 millones de personas alrededor del mundo. La  conferencia subrayará el papel central de Cádiz en nuestra historia compartida. \nEl presidente del Consejo Andaluz de Colegios Oficiales de Graduados Sociales\, José Blas Fernández Sánchez\, ha destacado que «desde nuestro colegio profesional creemos firmemente en el valor de la cultura como herramienta para el enriquecimiento profesional y personal. Organizar esta conferencia sobre la Hispanidad refleja nuestro compromiso con la formación integral de nuestros colegiados y el público general\, destacando la relevancia de entender nuestra historia y cultura en un contexto global. Con esta conferencia queremos iniciar una programación cultural que recorrerá las distintas provincias andaluzas”. \nLa actividad\, organizada con la colaboración de la Fundación Unicaja\, es de libre acceso previa confirmación en el correo electrónico info@consejoandaluzgraduadossociales.com.
URL:https://consejoandaluzgraduadossociales.com/evento/cadiz-conferencia-sobre-la-hispanidad-dentro-del-programa-cultural-de-los-graduados-sociales-andaluces/
LOCATION:Fundación Unicaja Cádiz\, C. San Francisco\, 26\, Cádiz\, Cádiz\, 11004 Cádiz\, España
CATEGORIES:Eventos
ATTACH;FMTTYPE=image/jpeg:https://consejoandaluzgraduadossociales.com/wp-content/uploads/2024/04/Captura-1.jpg
END:VEVENT
BEGIN:VEVENT
DTSTART;TZID=UTC:20240506T093000
DTEND;TZID=UTC:20240506T133000
DTSTAMP:20260419T230012
CREATED:20240410T145630Z
LAST-MODIFIED:20240410T145630Z
UID:6732-1714987800-1715002200@consejoandaluzgraduadossociales.com
SUMMARY:Cádiz: III Jornada Laboralista
DESCRIPTION:La Escuela de Práctica Jurídica-Laboral «Rafael Martínez Emperador» del Colegio Oficial de Graduados Sociales de Cádiz y Ceuta\, en colaboración con la Fundación Justicia Social y el Consejo General de Colegios Oficiales de Graduados Sociales de España\, anuncia la realización de la III JORNADA LABORALISTA. Este destacado evento tendrá lugar el próximo lunes 6 de mayo\, en el salón de actos del Edificio Heracles\, ubicado en el Recinto Interior de la Zona Franca de Cádiz. \nLa jornada\, programada de 09:15 a 13:30 horas\, será un foro para el intercambio de conocimientos y experiencias entre profesionales del ámbito jurídico-laboral. El evento contará con la participación de Fernando Salinas Molina\, Magistrado Emérito del Tribunal Supremo; Jaume González Calvet\, Magistrado del TSJ de Cataluña\, Sala de lo Social; Carlos Javier Galán Gutiérrez\, Magistrado-Juez del Juzgado de lo Social nº 14 de Sevilla; y Fernando Sicre Gilabert\, Doctor en Derecho y Ciencias Económicas e Inspector de Trabajo y Seguridad Social de Cádiz. \nEste encuentro es una oportunidad inmejorable para la actualización y el reciclaje profesional\, permitiendo a los asistentes plantear dudas y consultas a juristas de renombre. La jornada se enfocará en fomentar la claridad y la profundización en temas de relevancia actual\, contribuyendo así al mejor desempeño y asesoramiento en la práctica diaria de los profesionales. \nEl evento se llevará a cabo exclusivamente de manera presencial\, con el objetivo de recuperar la convivencia y el intercambio directo entre colegas\, aspectos que se han visto mermados tras la situación pandémica. Este formato busca propiciar un ambiente propicio para el diálogo y la construcción de redes profesionales. \nLa inscripción debe realizarse antes del 30 de abril\, para asegurar la participación en este relevante foro de encuentro y formación. La III Jornada Laboralista se perfila como una cita imprescindible para quienes buscan mantenerse a la vanguardia en el ámbito jurídico-laboral. \nprogramaiiijornadalaboralistacadiz06052024_3df50b \nboletininscripcioniiijornadalaboralistacadiz06052024_237c4a \n 
URL:https://consejoandaluzgraduadossociales.com/evento/cadiz-iii-jornada-laboralista/
LOCATION:Edificio Heracles Zona Franca de Cádiz\, C. Francia\, Cádiz\, Cádiz\, 11011
CATEGORIES:Eventos,Jornadas
ATTACH;FMTTYPE=image/png:https://consejoandaluzgraduadossociales.com/wp-content/uploads/2024/04/Captura-de-pantalla-2024-04-10-164838.png
END:VEVENT
BEGIN:VEVENT
DTSTART;TZID=UTC:20231016T103000
DTEND;TZID=UTC:20231016T123000
DTSTAMP:20260419T230012
CREATED:20231003T152455Z
LAST-MODIFIED:20231003T152455Z
UID:6202-1697452200-1697459400@consejoandaluzgraduadossociales.com
SUMMARY:ENCUENTRO CON EL JEFE DE LA OFICINA DE EXTRANJERÍA DE LA PROVINCIA DE CÁDIZ
DESCRIPTION:PROGRAMA 16 10 2023 \nDÍA: 16 de octubre de 2023\nHorario: 10.30 h a 12.30 h\nLugar: Salón Edf. Heracles. Vía Suiza.\nRecinto Interior Zona Franca de Cádiz \nENCUENTRO CON EL JEFE DE LA OFICINA DE EXTRANJERÍA DE LA PROVINCIA DE CÁDIZ\nOrganiza: Excmo. Colegio Oficial de Graduados Sociales de Cádiz–Ceuta \n10:30-10.35 h. Apertura y presentación:\nExcmo. Sr. D. José Blas Fernández Sánchez. Presidente del Excmo. Colegio Oficial de Graduados Sociales de Cádiz y Ceuta\nDon Eugenio Ricote Gil. Jefe de la Oficina de Extranjería en la Provincia de Cádiz. \n10:35 h. Ponencia: “RÉGIMEN JURÍDICO DE LAS SITUACIONES DE LOS EXTRANJEROS EN ESPAÑA “.\nContenido:\nUna visión de conjunto de las diferentes situaciones legales de la permanencia de los extranjeros en España\, enfocada a conocer las autorizaciones de estancia\, residencia y trabajo.\nTras la exposición habrá turno de preguntas y coloquio. \nDon Eugenio Ricote Gil. Jefe de la Oficina de Extranjería en la Provincia de Cádiz. \n12.30 h. Clausura.
URL:https://consejoandaluzgraduadossociales.com/evento/encuentro-con-el-jefe-de-la-oficina-de-extranjeria-de-la-provincia-de-cadiz/
LOCATION:Edificio Heracles Zona Franca de Cádiz\, C. Francia\, Cádiz\, Cádiz\, 11011
CATEGORIES:Eventos,Jornadas
ATTACH;FMTTYPE=image/png:https://consejoandaluzgraduadossociales.com/wp-content/uploads/2023/10/Captura-de-pantalla-2023-10-03-171834.png
END:VEVENT
BEGIN:VEVENT
DTSTART;TZID=UTC:20230602T090000
DTEND;TZID=UTC:20230602T140000
DTSTAMP:20260419T230012
CREATED:20230517T114012Z
LAST-MODIFIED:20230517T114012Z
UID:5953-1685696400-1685714400@consejoandaluzgraduadossociales.com
SUMMARY:Cádiz: II Jornada Laboralista con la presencia de la presidenta de la Sala IV del Tribunal Supremo
DESCRIPTION:El Colegio Oficial de Graduados Sociales de Cádiz y Ceuta\, a través de su Escuela de Práctica Jurídica-Laboral “Rafael Martínez Emperador” y la Fundación Justicia Social del Consejo General de Colegios Oficiales de Graduados Sociales de España organizan el viernes día 2 de junio la II Jornada Laboralista\, que tendrá lugar en el salón de actos del Edificio Heracles en el Recinto Interior de la Zona Franca de Cádiz. \nEn el siguiente enlace de descarga está el programa de la jornada\, diseñado con el objetivo de “intercambiar tantas dudas como tenemos y tener ese día para reciclarnos con juristas de máxima actualidad y seguir formándonos”\, explica el presidente del Colegio\, José Blas Fernández. \n \nEntre los ponentes destacan la presencia de  Rosa María Virolés Piñol\, presidenta de la sala IV del Tribunal Supremo; Concepción Rosario Ureste García\, magistrada de la Sala IV del Tribunal Supremo;  Ángel María Núñez Sánchez\, fiscal jefe de la Fiscalía Provincial de Cádiz y Fernando Sicre Gilabert\, doctor en Derecho y Ciencias Económicas\, inspector de Trabajo y Seguridad Social de Cádiz\, todos ellos del máximo prestigio. \nLas inscripciones deben enviarse antes del día 26 de mayo mediante el formulario adjunto. \nBoletín inscripción II Jornada Laboralista Cádiz – Digital
URL:https://consejoandaluzgraduadossociales.com/evento/cadiz-ii-jornada-laboralista-con-la-presencia-de-la-presidenta-de-la-sala-iv-del-tribunal-supremo/
LOCATION:Edificio Heracles Zona Franca de Cádiz\, C. Francia\, Cádiz\, Cádiz\, 11011
CATEGORIES:Eventos,Jornadas
ATTACH;FMTTYPE=image/jpeg:https://consejoandaluzgraduadossociales.com/wp-content/uploads/2023/05/Imagen-proyector-II-Jornada-Laboralista-Cadiz-scaled.jpg
END:VEVENT
END:VCALENDAR