BEGIN:VCALENDAR
VERSION:2.0
PRODID:-//Consejo Andaluz de Graduados sociales - ECPv6.15.20//NONSGML v1.0//EN
CALSCALE:GREGORIAN
METHOD:PUBLISH
X-ORIGINAL-URL:https://consejoandaluzgraduadossociales.com
X-WR-CALDESC:Eventos para Consejo Andaluz de Graduados sociales
REFRESH-INTERVAL;VALUE=DURATION:PT1H
X-Robots-Tag:noindex
X-PUBLISHED-TTL:PT1H
BEGIN:VTIMEZONE
TZID:UTC
BEGIN:STANDARD
TZOFFSETFROM:+0000
TZOFFSETTO:+0000
TZNAME:UTC
DTSTART:20220101T000000
END:STANDARD
END:VTIMEZONE
BEGIN:VEVENT
DTSTART;TZID=UTC:20251209T170000
DTEND;TZID=UTC:20251209T190000
DTSTAMP:20260420T042103
CREATED:20251205T111723Z
LAST-MODIFIED:20251205T111723Z
UID:8276-1765299600-1765306800@consejoandaluzgraduadossociales.com
SUMMARY:Córdoba: Jornada formativa sobre la normativa de Empleadas del Hogar\, Registro Horario y VERIFACTU
DESCRIPTION:El Colegio Oficial de Graduados Sociales de Córdoba organiza de una nueva jornada formativa dirigida a colegiados y profesionales del ámbito jurídico-laboral con el objetivo de actualizar conocimientos y reforzar el cumplimiento normativo en materias que afectan de manera directa a la gestión diaria de empresas\, despachos y empleadores particulares. \nEl encuentro tendrá lugar el martes 9 de diciembre de 2025\, a las 17:00 horas\, y se desarrollará en modalidad presencial y online\, facilitando así la asistencia de todos los interesados. \nContenidos de la jornada\nLa sesión abordará tres bloques fundamentales de normativa reciente y de aplicación inmediata: \n1. Normativa de Personas Trabajadoras al Servicio del Hogar Familiar (Real Decreto-ley 16/2022\, de 6 de septiembre)\nSe repasarán las principales novedades introducidas por esta norma\, tanto en materia de condiciones laborales como de Seguridad Social\, así como las obligaciones empresariales derivadas.La formación incluirá también un análisis comparado entre el marco anterior y la regulación vigente\, para clarificar de forma práctica qué aspectos han cambiado y cuáles son las medidas preventivas mínimas que deben implementarse. \n2. Normativa de Registro Horario (Real Decreto-ley 8/2019\, de 8 de marzo)\nEl segundo bloque se centrará en el registro obligatorio de la jornada laboral\, revisando criterios interpretativos\, obligaciones y responsabilidades empresariales.Además\, se ofrecerá una aproximación al futuro Registro Horario Digital\, su posible implementación y el impacto que tendrá en la organización interna de empresas y empleadores. \n3. Reglamento VERIFACTU (Real Decreto-ley 1007/2023\, de 5 de diciembre)\nPara cerrar la jornada\, se presentará una introducción completa al sistema VERIFACTU\, su propósito y el alcance de las nuevas obligaciones en materia de verificación documental.Se detallarán los requisitos técnicos\, la integración con los softwares de gestión y los plazos previstos para su implantación\, con el fin de anticipar escenarios y facilitar la adaptación. \nLa jornada se plantea como una oportunidad para profundizar en tres marcos normativos clave que marcarán la actividad profesional durante los próximos meses. \nInscripciones: secretaria@graduadossocialcordoba.es \nEl Colegio invita a todos los colegiados y colegiadas a participar en esta sesión formativa diseñada para ofrecer seguridad jurídica\, claridad práctica y preparación ante los nuevos cambios normativos.
URL:https://consejoandaluzgraduadossociales.com/evento/cordoba-jornada-formativa-sobre-la-normativa-de-empleadas-del-hogar-registro-horario-y-verifactu/
LOCATION:Ilustre Colegio de Graduados Sociales de Córdoba\, Av. Ronda de los Tejares\, 32\, Córdoba\, Córdoba\, 14001\, España
CATEGORIES:Cursos - Webinar
ATTACH;FMTTYPE=image/jpeg:https://consejoandaluzgraduadossociales.com/wp-content/uploads/2025/12/unnamed.jpg
ORGANIZER;CN="Colegio Oficial de Graduados Sociales de C%C3%B3rdoba":MAILTO:secretaria@graduadosocialcordoba.es
END:VEVENT
BEGIN:VEVENT
DTSTART;TZID=UTC:20250429T170000
DTEND;TZID=UTC:20250429T200000
DTSTAMP:20260420T042103
CREATED:20250402T104028Z
LAST-MODIFIED:20250402T104029Z
UID:7692-1745946000-1745956800@consejoandaluzgraduadossociales.com
SUMMARY:Córdoba: Jornada Renta\, Sociedades y Novedades Fiscales 2024
DESCRIPTION:
URL:https://consejoandaluzgraduadossociales.com/evento/cordoba-jornada-renta-sociedades-y-novedades-fiscales-2024/
LOCATION:Ilustre Colegio de Graduados Sociales de Córdoba\, Av. Ronda de los Tejares\, 32\, Córdoba\, Córdoba\, 14001\, España
CATEGORIES:Jornadas
ORGANIZER;CN="Colegio Oficial de Graduados Sociales de C%C3%B3rdoba":MAILTO:secretaria@graduadosocialcordoba.es
END:VEVENT
BEGIN:VEVENT
DTSTART;TZID=UTC:20250424T100000
DTEND;TZID=UTC:20250424T193000
DTSTAMP:20260420T042103
CREATED:20250408T091523Z
LAST-MODIFIED:20250408T091523Z
UID:7720-1745488800-1745523000@consejoandaluzgraduadossociales.com
SUMMARY:Córdoba: VI Jornada Laboralista con juristas de máximo nivel y ponencias sobre los retos actuales del Derecho del Trabajo
DESCRIPTION:Boletín inscripción VI Jornada Laboralista Córdoba – Digital
URL:https://consejoandaluzgraduadossociales.com/evento/cordoba-vi-jornada-laboralista-con-juristas-de-maximo-nivel-y-ponencias-sobre-los-retos-actuales-del-derecho-del-trabajo/
LOCATION:Facultad de Ciencias del Trabajo de Córdoba\, Calle Adarve S/N\, Córdoba\, Córdoba\, 14001\, Spain
CATEGORIES:Eventos
ATTACH;FMTTYPE=image/jpeg:https://consejoandaluzgraduadossociales.com/wp-content/uploads/2025/04/Imagen-proyector-VI-Jornada-Laboralista-Cordoba-scaled.jpg
ORGANIZER;CN="Colegio Oficial de Graduados Sociales de C%C3%B3rdoba":MAILTO:secretaria@graduadosocialcordoba.es
END:VEVENT
BEGIN:VEVENT
DTSTART;VALUE=DATE:20241122
DTEND;VALUE=DATE:20241123
DTSTAMP:20260420T042103
CREATED:20240708T084935Z
LAST-MODIFIED:20240708T084935Z
UID:7032-1732233600-1732319999@consejoandaluzgraduadossociales.com
SUMMARY:ACTOS PATRONALES DEL ILTRE. COLEGIO OF. DE CÓRDOBA
DESCRIPTION:
URL:https://consejoandaluzgraduadossociales.com/evento/actos-patronales-del-iltre-colegio-of-de-cordoba/
ATTACH;FMTTYPE=image/svg+xml:https://consejoandaluzgraduadossociales.com/wp-content/uploads/2024/07/logo-gscordoba.svg
ORGANIZER;CN="Colegio Oficial de Graduados Sociales de C%C3%B3rdoba":MAILTO:secretaria@graduadosocialcordoba.es
END:VEVENT
BEGIN:VEVENT
DTSTART;TZID=UTC:20240516T173000
DTEND;TZID=UTC:20240516T180000
DTSTAMP:20260420T042103
CREATED:20240510T112756Z
LAST-MODIFIED:20240513T145406Z
UID:6894-1715880600-1715882400@consejoandaluzgraduadossociales.com
SUMMARY:CORDOBA: II JORNADAS INFORMATIVAS-PRACTICAS CONVENIO CONSTRUCCIÓN
DESCRIPTION:En el BOE del pasado día 23 de septiembre se publicó el VII Convenio Colectivo General del Sector de la Construcción\, que introduce novedades de cierta relevancia\, algunas de las cuales figuran incorporadas al Convenio Colectivo Provincial de Córdoba 2022-2026. \nEntre otras cabe destacar la adaptación al sector de las modalidades de contratación previstas en la reforma laboral\, o las actualizaciones introducidas en materia de disposiciones mínimas de seguridad y salud aplicables a las obras de construcción\, así como la inclusión de nuevos contenidos formativos en prevención de riesgos laborales para realizar determinados trabajos. \nCon todo\, la novedad sin duda de mayor calado es la creación del Plan de Pensiones de Empleo Simplificado\, el primero de estas características que se va a poner en marcha en España para un sector. En este sentido\, al día de la fecha esta pendiente de que se autorice su integración en el fondo de la entidad gestora “VidaCaixa”\, momento a partir del cual se producirá su entrada en vigor y comportará la adhesión obligatoria al mismo de todas las empresas comprendidas dentro de su ámbito funcional de aplicación\, y consiguiente exigencia de realizar las aportaciones pactadas que se devenguen a partir de dicha fecha\, así como las correspondientes a los ejercicios 2022 y 2023. \nExpuesto cuanto antecede\, se van a realizar unas II JORNADAS INFORMATIVAS-PRACTICAS\, pero en esta ocasión de manera más PRACTICA. Las mismas serán en colaboración de ASOCIACIÓN DE EMPRESARIOS DE LA CONSTRUCCIÓN DE CÓRDOBA\, dirigidas a la parte práctica a la hora de la aplicación de dichas novedades\, con especial referencia al plan de pensiones por la complejidad que está suponiendo su puesta en marcha. \nPrograma Jornada Construyendo Empleo \nDichas JORNADAS\, de carácter gratuito\, tendrán lugar en SALÓN DE ACTOS DEL COLEGIO OFICIAL DE GRADUADOS SOCIALES DE CÓRDOBA\, el próximo día 16.5.2024\, A LAS 17:30 HORAS. \nPara inscribirse deberán solicitarlo por email a esta Corporación: secretaria@graduadosocialcordoba.es indicando en el asunto INSCRIPCION JORNADAS 16.5.2024. \nSiendo el AFORO LIMITADO\, las plazas se reservarán por riguroso orden de entrada\, solicitando que\, si una vez inscrito no puede acudir\, lo comunique a la mayor brevedad posible\, para que su plaza pueda ser ocupada por otro/a compañero/a.
URL:https://consejoandaluzgraduadossociales.com/evento/ii-jornadas-informativas-practicas-convenio-construccion-cordoba/
LOCATION:Ilustre Colegio de Graduados Sociales de Córdoba\, Av. Ronda de los Tejares\, 32\, Córdoba\, Córdoba\, 14001\, España
CATEGORIES:Eventios
ATTACH;FMTTYPE=image/png:https://consejoandaluzgraduadossociales.com/wp-content/uploads/2024/05/Captura-de-pantalla-2024-05-10-122942-1.png
ORGANIZER;CN="Colegio Oficial de Graduados Sociales de C%C3%B3rdoba":MAILTO:secretaria@graduadosocialcordoba.es
END:VEVENT
BEGIN:VEVENT
DTSTART;TZID=UTC:20240321T190000
DTEND;TZID=UTC:20240321T203000
DTSTAMP:20260420T042103
CREATED:20240221T101407Z
LAST-MODIFIED:20240221T101507Z
UID:6612-1711047600-1711053000@consejoandaluzgraduadossociales.com
SUMMARY:Córdoba: Jornada “Los planes de la Inspección de Trabajo y Seguridad Social para el año 2024”
DESCRIPTION:Jornada exclusiva para graduados sociales. \nPonente: Carmen Aumente Rojas\, jefa de la Inspección Provincial de Trabajo y Seguridad Social. \nInscripción por riguroso orden de entrada y solo por e-mail:\nsecretaria@graduadosocialcordoba.es \n 
URL:https://consejoandaluzgraduadossociales.com/evento/cordoba-jornada-los-planes-de-la-inspeccion-de-trabajo-y-seguridad-social-para-el-ano-2024/
LOCATION:Ilustre Colegio de Graduados Sociales de Córdoba\, Av. Ronda de los Tejares\, 32\, Córdoba\, Córdoba\, 14001\, España
CATEGORIES:Jornadas
ATTACH;FMTTYPE=image/png:https://consejoandaluzgraduadossociales.com/wp-content/uploads/2024/02/JORNADA-INSPECCION-DE-TRABAJO-E-INSS.-LINEAS-DE-ACTUACION-ANO-2024.png
ORGANIZER;CN="Colegio Oficial de Graduados Sociales de C%C3%B3rdoba":MAILTO:secretaria@graduadosocialcordoba.es
END:VEVENT
BEGIN:VEVENT
DTSTART;TZID=UTC:20231004T180000
DTEND;TZID=UTC:20231004T193000
DTSTAMP:20260420T042103
CREATED:20231002T154345Z
LAST-MODIFIED:20231002T154429Z
UID:6192-1696442400-1696447800@consejoandaluzgraduadossociales.com
SUMMARY:Córdoba: Webminar en colaboración con GRUPO 2000 sobre “Nuevas Bonificaciones para contratar Real Decreto 1/2023”
DESCRIPTION:Invitación al Webinar gratuito «Nuevas bonificaciones para contratar RD Ley 1/2023 en colaboración con Grupo2000» \n  \nDesde el 1 de septiembre han cambiado todas las bonificaciones para contratar y se exigen nuevos requisitos a las empresas. \nHemos preparado este Webinar gratuito desde el Colegio Oficial de Graduados Sociales de Córdoba\, en colaboración con Grupo2000\, para que conozcas todos los detalles. \nApúntate y descubre todas las novedades con Ángela Labrador\, Graduada Social y experta en temas laborales. \nEl Webinar tendrá lugar el próximo miércoles 04 de octubre\, a las 18:00 horas (hora peninsular) y durará 1 hora. \n¡Reserva tu plaza ya! \n  \n\n\n\n\nQUIERO APUNTARME\n\n\n\n\n\n\n\n\n\n\n\n\n\n\n\n\n\n\n\nEl día del evento te enviaremos al email con el que te hayas inscrito el enlace para acceder a la conferencia. Revisa tu bandeja de entrada ese día. \n¿Hay alguna duda o pregunta que te gustaría resolver durante el Webinar? Envíanosla y se la haremos llegar a la ponente. Puedes contestar a este mail: secretaria@graduadosocialcordoba.es \nUn cordial saludo. \nColegio oficial de Graduados Sociales de Córdoba
URL:https://consejoandaluzgraduadossociales.com/evento/cordoba-webminar-en-colaboracion-con-grupo-2000-sobre-nuevas-bonificaciones-para-contratar-real-decreto-1-2023/
ATTACH;FMTTYPE=image/png:https://consejoandaluzgraduadossociales.com/wp-content/uploads/2023/10/unnamed.png
ORGANIZER;CN="Colegio Oficial de Graduados Sociales de C%C3%B3rdoba":MAILTO:secretaria@graduadosocialcordoba.es
END:VEVENT
BEGIN:VEVENT
DTSTART;TZID=UTC:20230426T094500
DTEND;TZID=UTC:20230426T194500
DTSTAMP:20260420T042103
CREATED:20230410T143537Z
LAST-MODIFIED:20230410T143537Z
UID:5853-1682502300-1682538300@consejoandaluzgraduadossociales.com
SUMMARY:Córdoba: IV JORNADA LABORALISTA
DESCRIPTION:Boletiìn inscripcioìn IV Jornada Laboralista Coìrdoba – Digital
URL:https://consejoandaluzgraduadossociales.com/evento/cordoba-iv-jornada-laboralista/
LOCATION:Hotel Córdoba Center\, Estudiantes del Grado de\, Córdoba\, Córdoba\, 14006\, España
ATTACH;FMTTYPE=image/jpeg:https://consejoandaluzgraduadossociales.com/wp-content/uploads/2023/04/Captura.jpg
ORGANIZER;CN="Colegio Oficial de Graduados Sociales de C%C3%B3rdoba":MAILTO:secretaria@graduadosocialcordoba.es
END:VEVENT
BEGIN:VEVENT
DTSTART;VALUE=DATE:20230330
DTEND;VALUE=DATE:20230505
DTSTAMP:20260420T042103
CREATED:20230331T161306Z
LAST-MODIFIED:20230331T161306Z
UID:5827-1680134400-1683244799@consejoandaluzgraduadossociales.com
SUMMARY:Córdoba: ACTUALIZACIÓN EN DERECHO DEL TRABAJO
DESCRIPTION: DESTINATARI@S: Profesionales de la abogacía y graduados sociales. Egresados en Relaciones Laborales-Recursos Humanos\, en Ciencias del Trabajo y en Derecho.\n PREFERENCIAS: La prioridad en la admisión vendrá determinada por orden cronológico de matriculación.\n HORARIO: jueves\, desde las 16:30h.\n LUGAR: Facultad de Ciencias del Trabajo-UCO\, Ilustre Colegio Oficial de Graduados Sociales de Córdoba o Ilustre Colegio de la Abogacía de Córdoba (según fecha).\n MODALIDAD-PLAZAS (mín.: 70): presencial o virtual (online). \n \n 
URL:https://consejoandaluzgraduadossociales.com/evento/cordoba-actualizacion-en-derecho-del-trabajo/
LOCATION:Ilustre Colegio de Graduados Sociales de Córdoba\, Av. Ronda de los Tejares\, 32\, Córdoba\, Córdoba\, 14001\, España
CATEGORIES:Eventos,Jornadas
ATTACH;FMTTYPE=image/png:https://consejoandaluzgraduadossociales.com/wp-content/uploads/2023/03/232565898.png
ORGANIZER;CN="Colegio Oficial de Graduados Sociales de C%C3%B3rdoba":MAILTO:secretaria@graduadosocialcordoba.es
END:VEVENT
END:VCALENDAR