BEGIN:VCALENDAR
VERSION:2.0
PRODID:-//Consejo Andaluz de Graduados sociales - ECPv6.15.20//NONSGML v1.0//EN
CALSCALE:GREGORIAN
METHOD:PUBLISH
X-WR-CALNAME:Consejo Andaluz de Graduados sociales
X-ORIGINAL-URL:https://consejoandaluzgraduadossociales.com
X-WR-CALDESC:Eventos para Consejo Andaluz de Graduados sociales
REFRESH-INTERVAL;VALUE=DURATION:PT1H
X-Robots-Tag:noindex
X-PUBLISHED-TTL:PT1H
BEGIN:VTIMEZONE
TZID:UTC
BEGIN:STANDARD
TZOFFSETFROM:+0000
TZOFFSETTO:+0000
TZNAME:UTC
DTSTART:20210101T000000
END:STANDARD
END:VTIMEZONE
BEGIN:VEVENT
DTSTART;VALUE=DATE:20241121
DTEND;VALUE=DATE:20241122
DTSTAMP:20260422T131421
CREATED:20240708T084156Z
LAST-MODIFIED:20240708T084156Z
UID:7028-1732147200-1732233599@consejoandaluzgraduadossociales.com
SUMMARY:ACTOS PATRONALES DEL EXCMO. COLEGIO OF. DE GRADUADOS SOCIALES DE GRANADA
DESCRIPTION:
URL:https://consejoandaluzgraduadossociales.com/evento/actos-patronales-del-excmo-colegio-of-de-graduados-sociales-de-granada/
ATTACH;FMTTYPE=image/png:https://consejoandaluzgraduadossociales.com/wp-content/uploads/2024/07/Granada.png
ORGANIZER;CN="Colegio Oficial de Graduados Sociales de Granada":MAILTO:administracion@cgsgranada.es
END:VEVENT
BEGIN:VEVENT
DTSTART;TZID=UTC:20230922T090000
DTEND;TZID=UTC:20230922T200000
DTSTAMP:20260422T131421
CREATED:20230830T072815Z
LAST-MODIFIED:20230830T072815Z
UID:6139-1695373200-1695412800@consejoandaluzgraduadossociales.com
SUMMARY:I FORO DE ACTUALIDAD LABORAL DEL COLEGIO DE GRADUADOS SOCIALES DE ALMERÍA Y GRANADA
DESCRIPTION:Adjuntamos información sobre la celebración del I FORO DE ACTUALIDAD LABORAL\, el cual celebran en conjunto el Iltre.  Colegio Oficial de Graduados Sociales de Almería junto al de Granada\, y que tendrá lugar el próximo día 22 de septiembre (viernes)\, en el Hotel Abades Nevada Palace de Granada\, en formato presencial y en horario de mañana y tarde\, siendo la inscripción al foro gratuita\, y teniendo un almuerzo\, cuya inscripción al mismo es opcional. \nEste Foro para nuestro colectivo\, es un importante punto de encuentro\, en el que se debatirá cuestiones jurídico laborales de actualidad y contando con unos ponentes de prestigio\, por lo que te sugiero hagas un hueco en tu agenda y asistas al mismo. \nPROGRAMA DEL FORO
URL:https://consejoandaluzgraduadossociales.com/evento/i-foro-de-actualidad-laboral-del-colegio-de-graduados-sociales-de-almeria-y-granada/
LOCATION:Hotel Abades Nevada Palace\, C. de la Sultana\, 3\, Granada\, 18008\, España
CATEGORIES:Eventos
ATTACH;FMTTYPE=image/png:https://consejoandaluzgraduadossociales.com/wp-content/uploads/2023/08/Captura-de-pantalla-2023-08-30-092120.png
ORGANIZER;CN="Colegio Oficial de Graduados Sociales de Granada":MAILTO:administracion@cgsgranada.es
END:VEVENT
BEGIN:VEVENT
DTSTART;TZID=UTC:20220930T090000
DTEND;TZID=UTC:20220930T200000
DTSTAMP:20260422T131421
CREATED:20220911T080732Z
LAST-MODIFIED:20220916T171035Z
UID:4827-1664528400-1664568000@consejoandaluzgraduadossociales.com
SUMMARY:II Jornada Laboralista de Granada
DESCRIPTION:La II Jornada Laboralista de Granada se celebrará el próximo 30 de septiembre en un marco tan incomparable como es el PALACIO DE CONGRESOS Y EXPOSICIONES DE GRANADA\, en la “SALA MACHADO“. \nUno de los principales objetivos de esta Jornada es mantener el carácter y la esencia que rodean a la profesión de Graduado Social. Como son\, trasladar y transmitir conocimiento\, tanto a nuestro colectivo como a la sociedad en general\, pero además no dejando de aprender y de contribuir a una sociedad más justa. Por ello se tratarán temáticas como: la contratación temporal\,  aspectos destacados de la reforma laboral o la influencia de la normativa publicada a lo largo de la pandemia  Covid 19. \nMás info e inscripciones (gratuitas) en el siguiente enlace: https://jornadas.cgsgranada.com/ \nAdjuntamos cartel definitivo: \nPrograma Jornada \n 
URL:https://consejoandaluzgraduadossociales.com/evento/ii-jornada-laboralista-de-granada/
LOCATION:Palacio de Congresos de Granada\, Paseo del Violón\, Granada\, 18006\, España
CATEGORIES:Jornadas
ATTACH;FMTTYPE=image/jpeg:https://consejoandaluzgraduadossociales.com/wp-content/uploads/2022/09/Captura3.jpg
ORGANIZER;CN="Colegio Oficial de Graduados Sociales de Granada":MAILTO:administracion@cgsgranada.es
END:VEVENT
END:VCALENDAR