BEGIN:VCALENDAR
VERSION:2.0
PRODID:-//Consejo Andaluz de Graduados sociales - ECPv6.15.20//NONSGML v1.0//EN
CALSCALE:GREGORIAN
METHOD:PUBLISH
X-ORIGINAL-URL:https://consejoandaluzgraduadossociales.com
X-WR-CALDESC:Eventos para Consejo Andaluz de Graduados sociales
REFRESH-INTERVAL;VALUE=DURATION:PT1H
X-Robots-Tag:noindex
X-PUBLISHED-TTL:PT1H
BEGIN:VTIMEZONE
TZID:UTC
BEGIN:STANDARD
TZOFFSETFROM:+0000
TZOFFSETTO:+0000
TZNAME:UTC
DTSTART:20210101T000000
END:STANDARD
END:VTIMEZONE
BEGIN:VEVENT
DTSTART;TZID=UTC:20221020T170000
DTEND;TZID=UTC:20221020T193000
DTSTAMP:20260422T115237
CREATED:20221018T091612Z
LAST-MODIFIED:20221018T092211Z
UID:5383-1666285200-1666294200@consejoandaluzgraduadossociales.com
SUMMARY:WEBINAR: INCENTIVOS PARA FAVORECER LA CONTRATACIÓN INDEFINIDA EN ANDALUCÍA
DESCRIPTION:El próximo jueves\, día 20 de octubre de 2022\, a las 17.00 horas\, celebraremos con la Consejería de Empleo\, Formación y Trabajo Autónomo de la Junta de Andalucía\, un webinar bajo el título: “INCENTIVOS PARA FAVORECER LA CONTRATACIÓN INDEFINIDA EN ANDALUCÍA”. \nIntervendrán: \n\nJosé Blas Fernández Sánchez\, presidente del Consejo Andaluz de Colegios de Graduados Sociales\nAurora Lazo Barral\,directora General de Incentivos para el Empleo y Competitividad Empresarial\nRubén García Bravo\, comisionado del Plan Director de Ordenación de las Políticas de Empleo y Relaciones Laborales de Andalucía\n\nWEBINAR20102022
URL:https://consejoandaluzgraduadossociales.com/evento/webinar-incentivos-para-favorecer-la-contratacion-indefinida-en-andalucia/
LOCATION:WEBINAR
ATTACH;FMTTYPE=image/jpeg:https://consejoandaluzgraduadossociales.com/wp-content/uploads/2022/10/Captura-3.jpg
END:VEVENT
END:VCALENDAR