BEGIN:VCALENDAR
VERSION:2.0
PRODID:-//Consejo Andaluz de Graduados sociales - ECPv6.15.20//NONSGML v1.0//EN
CALSCALE:GREGORIAN
METHOD:PUBLISH
X-WR-CALNAME:Consejo Andaluz de Graduados sociales
X-ORIGINAL-URL:https://consejoandaluzgraduadossociales.com
X-WR-CALDESC:Eventos para Consejo Andaluz de Graduados sociales
REFRESH-INTERVAL;VALUE=DURATION:PT1H
X-Robots-Tag:noindex
X-PUBLISHED-TTL:PT1H
BEGIN:VTIMEZONE
TZID:UTC
BEGIN:STANDARD
TZOFFSETFROM:+0000
TZOFFSETTO:+0000
TZNAME:UTC
DTSTART:20230101T000000
END:STANDARD
END:VTIMEZONE
BEGIN:VEVENT
DTSTART;TZID=UTC:20240412T093000
DTEND;TZID=UTC:20240412T143000
DTSTAMP:20260422T113301
CREATED:20240315T122231Z
LAST-MODIFIED:20240315T122324Z
UID:6678-1712914200-1712932200@consejoandaluzgraduadossociales.com
SUMMARY:Córdoba: VI Jornada Formativa de la Primavera de ASNALA
DESCRIPTION:El Consejo Andaluz de Colegios Oficiales de Graduados Sociales va a colaborar en la celebración de la VI Jornada Formativa de la Primavera de ASNALA\, un evento crucial para el avance y la actualización profesional en el ámbito de las ciencias sociales y jurídicas\, que tendrá lugar el próximo 12 de abril en el Colegio de Abogados de Córdoba\, además de estar disponible en formato online. \n\n\n\nEl presidente del Consejo\, José Blas Fernández Sánchez\, expresó su entusiasmo por la realización de este evento: «Es para nosotros un honor coadyuvar en la organización de una jornada tan significativa como esta\, que no solo es un espacio de aprendizaje y debate\, sino también una muestra del compromiso constante de nuestro Consejo con la excelencia profesional. Estamos convencidos de que este encuentro enriquecerá a todos los participantes\, ofreciéndoles nuevas perspectivas y herramientas en el ámbito del derecho laboral y la seguridad social.» \n\n\n\nEste año\, la jornada contará con la participación de eminentes expertos que abordarán temas de gran relevancia: \n\n\n\n\nRamón Gallo Llanos\, magistrado de la Sala de lo Social de la Audiencia Nacional\, presentará «Jurisprudencia fundamental en materia de despido colectivo».\n\n\n\nAinhoa Herrero Lezana\, Client Solutions Director (Reestructuring Area) en LHH\, hablará sobre «La exigencia de la nueva norma respecto a la notificación previa de 6 meses en caso de cierre de un centro de trabajo. Real decreto 608/2023».\n\n\n\nJesús Serrano Contreras\, inspector de Trabajo y de la Seguridad Social en Córdoba\, discutirá «Las modalidades de contratación temporal y la actuación de la Inspección de Trabajo en Córdoba».\n\n\n\nAntonio Costa Reyes\, profesor de Derecho del Trabajo y de la Seguridad Social de la UCO\, explicará «Claves para entender la sentencia del TJUE de 22 de febrero de 2024 sobre los trabajadores indefinidos no fijos e interinos en las Administraciones Públicas».\n\n\n\n\nAdemás\, en reconocimiento a la colaboración con ASNALA (Asociación Nacional de Laboralistas)\, se ofrece un precio especial para los Graduados Sociales de Andalucía\, destacando la importancia de facilitar el acceso a este tipo de formación continua. «Este evento representa una oportunidad inigualable para la actualización profesional y el intercambio de conocimientos. Esperamos una participación entusiasta tanto en la modalidad presencial como online»\, concluyó Fernández Sánchez. \n\n\n\nPara más información y detalles sobre el programa del evento\, invitamos a los interesados a consultar el enlace proporcionado. Programa VI Jornada Formativa de primavera – Córdoba 12.04.2024 \n\n\n\n 
URL:https://consejoandaluzgraduadossociales.com/evento/cordoba-vi-jornada-formativa-de-la-primavera-de-asnala/
LOCATION:Colegio de Abogados de Cordoba\, Calle Morería nº 5\, Córdoba\, Córdoba\, 14008\, España
CATEGORIES:Eventios
ATTACH;FMTTYPE=image/png:https://consejoandaluzgraduadossociales.com/wp-content/uploads/2024/03/Captura-de-pantalla-2024-03-15-125834.png
END:VEVENT
END:VCALENDAR