BEGIN:VCALENDAR
VERSION:2.0
PRODID:-//Consejo Andaluz de Graduados sociales - ECPv6.15.20//NONSGML v1.0//EN
CALSCALE:GREGORIAN
METHOD:PUBLISH
X-WR-CALNAME:Consejo Andaluz de Graduados sociales
X-ORIGINAL-URL:https://consejoandaluzgraduadossociales.com
X-WR-CALDESC:Eventos para Consejo Andaluz de Graduados sociales
REFRESH-INTERVAL;VALUE=DURATION:PT1H
X-Robots-Tag:noindex
X-PUBLISHED-TTL:PT1H
BEGIN:VTIMEZONE
TZID:UTC
BEGIN:STANDARD
TZOFFSETFROM:+0000
TZOFFSETTO:+0000
TZNAME:UTC
DTSTART:20240101T000000
END:STANDARD
END:VTIMEZONE
BEGIN:VEVENT
DTSTART;VALUE=DATE:20250612
DTEND;VALUE=DATE:20250614
DTSTAMP:20260422T084000
CREATED:20250422T104247Z
LAST-MODIFIED:20250422T104247Z
UID:7737-1749686400-1749859199@consejoandaluzgraduadossociales.com
SUMMARY:JAÉN: JORNADA CONMEMORATIVA CENTENARIO DE LOS GRADUADOS SOCIALES  "Hacia un nueva Jurisdicción Social entre JUSTICIA Y EFICIENCIA"
DESCRIPTION:programahttps://consejoandaluzgraduadossociales.com/wp-content/uploads/2025/04/Programa-para-enviar.jpg» alt=»» width=»1280″ height=»720″ class=»aligncenter size-full wp-image-7738″ />
URL:https://consejoandaluzgraduadossociales.com/evento/jaen-jornada-conmemorativa-centenario-de-los-graduados-sociales-hacia-un-nueva-jurisdiccion-social-entre-justicia-y-eficiencia/
LOCATION:Escuela de Magisterio Jaén\, C/ Virgen de la Cabeza\, 2\, Jaén\, Jaén\, Spain
ATTACH;FMTTYPE=image/jpeg:https://consejoandaluzgraduadossociales.com/wp-content/uploads/2025/04/unnamed-1.jpg
END:VEVENT
END:VCALENDAR